BEGIN:VCALENDAR
VERSION:2.0
PRODID:-//ChamberMaster//Event Calendar 2.0//EN
METHOD:PUBLISH
X-PUBLISHED-TTL:P3D
REFRESH-INTERVAL:P3D
CALSCALE:GREGORIAN
BEGIN:VEVENT
DTSTART:20200619T140000Z
DTEND:20200619T190000Z
X-MICROSOFT-CDO-ALLDAYEVENT:FALSE
SUMMARY:Blood Drive- Skippack Rotary is partnering with Miller-Keystone Blood Center
DESCRIPTION:Skippack Rotary is partnering with Miller-Keystone Blood Center for a Blood Drive. Please consider joining us to aid the community in this life-saving initiative!\n\n \n\nDate: Friday\, June 19th\n\nTime: 10:00am   3:00pm\n\nLocation: PEAK Senior Center\, 606 E. Main Street\, Lobby\, Lansdale\, PA 19446\n\n \n\nThe proper precautions will be in place. Masks and social distancing are required\, and the donating stations will be appropriately spaced out for your safety.\n\n \n\nYou may click on the link below to book your appointment. Appointments are every half hour.\n\nhttps://donor.giveapint.org/donor/schedules/drive_schedule/81840\n\n \n\nSkippack Rotary thanks you in advance for your donation and helping us with this worthy cause.
X-ALT-DESC;FMTTYPE=text/html:<div><span style="font-size:12pt">Skippack Rotary is partnering with Miller-Keystone Blood Center for a Blood Drive. Please consider joining us to aid the community in this life-saving initiative!</span></div>\n\n<div><span style="font-size:12pt">&nbsp\;</span></div>\n\n<div><span style="font-size:12pt"><strong>Date: Friday\, June 19</strong><strong><sup>th</sup></strong></span></div>\n\n<div><span style="font-size:12pt"><strong>Time: 10:00am &ndash\; 3:00pm</strong></span></div>\n\n<div><span style="font-size:12pt"><strong>Location: PEAK Senior Center\, 606 E. Main Street\, Lobby\, Lansdale\, PA 19446</strong></span></div>\n\n<div><span style="font-size:12pt">&nbsp\;</span></div>\n\n<div><span style="font-size:12pt">The proper precautions will be in place. Masks and social distancing are required\, and the donating stations will be appropriately spaced out for your safety.</span></div>\n\n<div><span style="font-size:12pt">&nbsp\;</span></div>\n\n<div><span style="font-size:12pt">You may click on the link below to book your appointment. Appointments are every half hour.</span></div>\n\n<div><span style="font-size:12pt"><a href="http://owa.edwardjones.com/owa/redir.aspx?C=0hSWFbfo0LPURgBbkdAs_rpWz8sMdPCw0BFKTHFHcfK1_LFVOgPYCA..&amp\;URL=https%3a%2f%2fdonor.giveapint.org%2fdonor%2fschedules%2fdrive_schedule%2f81840" rel="noopener noreferrer" target="_blank">https://donor.giveapint.org/donor/schedules/drive_schedule/81840</a></span></div>\n\n<div><span style="font-size:12pt">&nbsp\;</span></div>\n\n<div><span style="font-size:12pt">Skippack Rotary thanks you in advance for your donation and helping us with this worthy cause.</span></div>\n
LOCATION:PEAK Senior Center\, 606 E. Main Street\, Lobby\, Lansdale\, PA 19446
UID:e.2385.10375
SEQUENCE:3
DTSTAMP:20260423T071856Z
URL:https://business.chambergmc.org/events/details/blood-drive-skippack-rotary-is-partnering-with-miller-keystone-blood-center-10375
END:VEVENT

END:VCALENDAR
