BEGIN:VCALENDAR
VERSION:2.0
PRODID:-//ChamberMaster//Event Calendar 2.0//EN
METHOD:PUBLISH
X-PUBLISHED-TTL:P3D
REFRESH-INTERVAL:P3D
CALSCALE:GREGORIAN
BEGIN:VEVENT
DTSTART:20190924T220000Z
DTEND:20190925T010000Z
X-MICROSOFT-CDO-ALLDAYEVENT:FALSE
SUMMARY:Bookkeeping Certification Course
DESCRIPTION:New course starting at Penn State Abington! Ensure that your bookkeeper's skills are top-notch! The American Institute of Professional Bookkeepers certification course helps students prepare for the national exam. Certification shows that the student keeps up to date on changes in bookkeeping\, accounting and tax regulations\, and that they have met the institute's high\, national standards.
X-ALT-DESC;FMTTYPE=text/html:New course starting at Penn State Abington! Ensure that your bookkeeper&rsquo\;s skills are top-notch! The American Institute of Professional Bookkeepers certification course helps students prepare for the national exam. Certification shows that the student keeps up to date on changes in bookkeeping\, accounting and tax regulations\, and that they have met the institute&#39\;s high\, national standards.
LOCATION:Penn State Abington 1600 Woodland Avenue Abington\, PA. 19001
UID:e.2385.10059
SEQUENCE:3
DTSTAMP:20260423T181918Z
URL:https://business.chambergmc.org/events/details/bookkeeping-certification-course-10059
END:VEVENT

END:VCALENDAR
