BEGIN:VCALENDAR
VERSION:2.0
PRODID:-//ChamberMaster//Event Calendar 2.0//EN
METHOD:PUBLISH
X-PUBLISHED-TTL:P3D
REFRESH-INTERVAL:P3D
CALSCALE:GREGORIAN
BEGIN:VEVENT
DTSTART:20180908T220000Z
DTEND:20180909T000000Z
X-MICROSOFT-CDO-ALLDAYEVENT:FALSE
SUMMARY:Bowling for Hunger
DESCRIPTION:Join us for a family-friendly night of bowling to raise support for Partners in Caring\, a ShopRite organization that raises funds for local food banks.
X-ALT-DESC;FMTTYPE=text/html:Join us for a family-friendly night of bowling to raise support for Partners in Caring\, a ShopRite organization that raises funds for local food banks.
LOCATION:Earl Bowl Lanes 390 Morwood Road\, Earlington PA 18918
UID:e.2385.7995
SEQUENCE:3
DTSTAMP:20260422T002109Z
URL:https://business.chambergmc.org/events/details/bowling-for-hunger-7995
END:VEVENT

END:VCALENDAR
