BEGIN:VCALENDAR
VERSION:2.0
PRODID:-//ChamberMaster//Event Calendar 2.0//EN
METHOD:PUBLISH
X-PUBLISHED-TTL:P3D
REFRESH-INTERVAL:P3D
CALSCALE:GREGORIAN
BEGIN:VEVENT
DTSTART:20171109T170000Z
DTEND:20171109T193000Z
X-MICROSOFT-CDO-ALLDAYEVENT:FALSE
SUMMARY:Branding Seminar
DESCRIPTION:Attracting new clients is all about aligning your values\, offerings and the customers' perception of your business. When done in perfect harmony you are maximizing the chance of success. Come learn how to align your business values in a way that truly reflects the brand you want to be. You shouldn't just love what you do\, you should love your brand!
X-ALT-DESC;FMTTYPE=text/html:Attracting new clients is all about aligning your values\, offerings and the customers&#39\; perception of your business. When done in perfect harmony you are maximizing the chance of success. Come learn how to align your business values in a way that truly reflects the brand you want to be. You shouldn&#39\;t just love what you do\, you should love your brand!
LOCATION:RedKnight Print Colmar\, PA
UID:e.2385.2613
SEQUENCE:3
DTSTAMP:20260421T111617Z
URL:https://business.chambergmc.org/events/details/branding-seminar-11-09-2017-2613
END:VEVENT

END:VCALENDAR
