BEGIN:VCALENDAR
VERSION:2.0
PRODID:-//ChamberMaster//Event Calendar 2.0//EN
METHOD:PUBLISH
X-PUBLISHED-TTL:P3D
REFRESH-INTERVAL:P3D
CALSCALE:GREGORIAN
BEGIN:VEVENT
DTSTART:20180317T130000Z
DTEND:20180317T150000Z
X-MICROSOFT-CDO-ALLDAYEVENT:FALSE
SUMMARY:Breakfast with Bunny
DESCRIPTION:Join us for Breakfast with Bunny!
X-ALT-DESC;FMTTYPE=text/html:Join us for Breakfast with Bunny!
LOCATION:North Montco Technical Career Center 1265 Sumneytown Pike\, Lansdale\, PA 19446
UID:e.2385.3271
SEQUENCE:3
DTSTAMP:20260421T162116Z
URL:https://business.chambergmc.org/events/details/breakfast-with-bunny-03-17-2018-3271
END:VEVENT

END:VCALENDAR
