BEGIN:VCALENDAR
VERSION:2.0
PRODID:-//ChamberMaster//Event Calendar 2.0//EN
METHOD:PUBLISH
X-PUBLISHED-TTL:P3D
REFRESH-INTERVAL:P3D
CALSCALE:GREGORIAN
BEGIN:VEVENT
DTSTART:20250329T150000Z
DTEND:20250329T180000Z
X-MICROSOFT-CDO-ALLDAYEVENT:FALSE
SUMMARY:Bridal & Fashion Show
DESCRIPTION:Liz's Birthday Closet is a 501(c)(3) non-profit organization committed to providing birthday toys to children in need in both Bucks and Montgomery Counties.. With the help of the community\, donated sample wedding and prom gowns will be modeled at the Montgomery Mall at our first Bridal & Gown Show.
X-ALT-DESC;FMTTYPE=text/html:Liz&rsquo\;s Birthday Closet is a 501(c)(3) non-profit organization committed to providing birthday toys to children in need in both Bucks and Montgomery Counties.. With the help of the community\, donated sample wedding and prom gowns will be modeled at the Montgomery Mall at our first Bridal &amp\; Gown Show.
LOCATION:Montgomery Mall - Macy's Courtyard 230 Montgomery Mall North Wales\, PA 19454
UID:e.2385.12134
SEQUENCE:3
DTSTAMP:20260420T083819Z
URL:https://business.chambergmc.org/events/details/bridal-fashion-show-12134
END:VEVENT

END:VCALENDAR
