BEGIN:VCALENDAR
VERSION:2.0
PRODID:-//ChamberMaster//Event Calendar 2.0//EN
METHOD:PUBLISH
X-PUBLISHED-TTL:P3D
REFRESH-INTERVAL:P3D
CALSCALE:GREGORIAN
BEGIN:VEVENT
DTSTART:20190209T180000Z
DTEND:20190209T220000Z
X-MICROSOFT-CDO-ALLDAYEVENT:FALSE
SUMMARY:Bridal Showcase 2/9/19
DESCRIPTION:Are you or do you know a BRIDE TO BE? Join us at S&B Event Concepts and Catering for our New Bridal Showcase! This is the perfect chance to sample our favorite hors d'oeuvres\, entrees and cakes. Tour our boutique venue for your shower\, rehearsal dinner or wedding and learn more about how we can cater to all of your wedding needs! Leave with some fun facts and prizes too!
X-ALT-DESC;FMTTYPE=text/html:Are you or do you know a BRIDE TO BE? Join us at S&amp\;B Event Concepts and Catering for our New Bridal Showcase! This is the perfect chance to sample our favorite hors d&#39\;oeuvres\, entrees and cakes. Tour our boutique venue for your shower\, rehearsal dinner or wedding and learn more about how we can cater to all of your wedding needs! Leave with some fun facts and prizes too!
LOCATION:25 Bridge Street\, Collegeville\, PA 19426
UID:e.2385.8167
SEQUENCE:3
DTSTAMP:20260422T070545Z
URL:https://business.chambergmc.org/events/details/bridal-showcase-2-9-19-8167
END:VEVENT

END:VCALENDAR
