BEGIN:VCALENDAR
VERSION:2.0
PRODID:-//ChamberMaster//Event Calendar 2.0//EN
METHOD:PUBLISH
X-PUBLISHED-TTL:P3D
REFRESH-INTERVAL:P3D
CALSCALE:GREGORIAN
BEGIN:VEVENT
DTSTART:20190305T190000Z
DTEND:20190305T203000Z
X-MICROSOFT-CDO-ALLDAYEVENT:FALSE
SUMMARY:Bringing Great Plants to the West
DESCRIPTION:E. H. Wilson (1876-1930) was one of the most renowned plant collectors of his generation. He was responsible for introducing more than a thousand plant species\, mainly from China\, to the west.\n\n\n\nIn this lecture\, Tony Kirkham will highlight his recent book Wilson's China: A Century On. Many of Wilson's introductions were ornamental plants and trees\, such as the beautiful regal lily and dove tree. Other examples include the kiwi fruit\, many popular rhododendrons and the Chinese dogwood. In his talk\, Tony follows in the footsteps of this intrepid plant hunter to reveal and connect with the China that Wilson once knew.\n\n\n\nWith co-author Mark Flanagan\, Tony retraced several of Wilson's journeys to create a fascinating series of breathtaking "then and now" images of the remote Sichuan landscape\, providing a unique insight into the changes that have taken place in China over the past 100 years.\n\n\n\nTony Kirkham started his career as an apprentice at Tilhill Forestry Nursery in Frensham\, England. He attended Merrist Wood Agricultural College and was awarded the Kew diploma in Horticulture. He was appointed manager of Kew's North Arboretum and became Head of the Arboretum and Horticultural Services at Kew in 2001.\n\n\n\nThis special lecture is being presented by the Morris Arboretum of the University of Pennsylvania and the Ambler Arboretum of Temple University.
X-ALT-DESC;FMTTYPE=text/html:<p><span style="font-size:14px"><span style="font-family:arial\,helvetica\,sans-serif">E. H. Wilson (1876-1930) was one of the most renowned plant collectors of his generation. He was responsible for introducing more than a thousand plant species\, mainly from China\, to the west.<br />\n<br />\nIn this lecture\, Tony Kirkham will highlight his recent book&nbsp\;<em>Wilson&rsquo\;s China: A Century On</em>. Many of Wilson&rsquo\;s introductions were ornamental plants and trees\, such as the beautiful regal lily and dove tree. Other examples include the kiwi fruit\, many popular rhododendrons&nbsp\;</span></span><span style="font-size:14px"><span style="font-family:arial\,helvetica\,sans-serif">and</span></span><span style="font-size:14px"><span style="font-family:arial\,helvetica\,sans-serif"> the Chinese dogwood. In his talk\, Tony follows in the footsteps of this intrepid plant hunter to reveal and connect with the China that Wilson once knew.<br />\n<br />\nWith co-author Mark Flanagan\, Tony retraced several of Wilson&rsquo\;s journeys to create a fascinating series of breathtaking &ldquo\;then and now&rdquo\; images of the remote Sichuan landscape\, providing a unique insight into the changes that have taken place in China over the past 100 years.<br />\n<br />\nTony Kirkham started his career as an apprentice at Tilhill Forestry Nursery in Frensham\, England. He attended Merrist Wood Agricultural College and was awarded the Kew&nbsp\;</span></span><span style="font-size:14px"><span style="font-family:arial\,helvetica\,sans-serif">diploma</span></span><span style="font-size:14px"><span style="font-family:arial\,helvetica\,sans-serif"> in Horticulture. He was appointed </span></span><span style="font-size:14px"><span style="font-family:arial\,helvetica\,sans-serif">manager</span></span><span style="font-size:14px"><span style="font-family:arial\,helvetica\,sans-serif"> of Kew&rsquo\;s North Arboretum and became Head of the Arboretum and Horticultural Services at Kew in 2001.<br />\n<br />\nThis special lecture is being presented&nbsp\;</span></span><span style="font-size:14px"><span style="font-family:arial\,helvetica\,sans-serif">by</span></span><span style="font-size:14px"><span style="font-family:arial\,helvetica\,sans-serif">&nbsp\;the Morris Arboretum of the University of Pennsylvania and the Ambler Arboretum of Temple University.&nbsp\;</span></span></p>\n
LOCATION:Temple University Ambler\, Learning Center Auditorium\, 580 Meetinghouse Road\, 19002
UID:e.2385.3057
SEQUENCE:3
DTSTAMP:20260422T082703Z
URL:https://business.chambergmc.org/events/details/bringing-great-plants-to-the-west-3057
END:VEVENT

END:VCALENDAR
