BEGIN:VCALENDAR
VERSION:2.0
PRODID:-//ChamberMaster//Event Calendar 2.0//EN
METHOD:PUBLISH
X-PUBLISHED-TTL:P3D
REFRESH-INTERVAL:P3D
CALSCALE:GREGORIAN
BEGIN:VEVENT
DTSTART:20180519T123000Z
DTEND:20180519T150000Z
X-MICROSOFT-CDO-ALLDAYEVENT:FALSE
SUMMARY:Broad Street ReRun
DESCRIPTION:The Broad Street ReRun is a chip timed 5 mile race down Lansdale's South Broad Street. The race is held shortly after Philadelphia's 10 mile race. The course's distance and incline ( 180 ft. max incline) are perfect for runners experienced\, inexperienced\, young\, or old! \n\nAwards will be given to the top overall Male and Female as well as the top 3 males and top 3 female in EIGHT different age groups!\n\nAmenities include running t-shirt and grocery tote bag (guaranteed if registered by 4/22)\, food\, music\, goodie bags\, door prizes\, beer\,  AND MORE!\n\n\n\n\n\n \n\n\n\nAll proceeds from this year's Broad Street ReRun will benefit The Community Health & Youth Foundation\, an affiliate of the Chamber of Commerce for the Greater Montgomery County!
X-ALT-DESC;FMTTYPE=text/html:<p>The Broad Street ReRun is a chip timed 5 mile race down Lansdale&#39\;s South Broad Street. The race is held shortly after Philadelphia&#39\;s 10 mile race. The course&#39\;s distance and incline ( 180 ft. max incline) are perfect for runners experienced\, inexperienced\, young\, or old!&nbsp\;</p>\n\n<p>Awards will be given to the top overall Male and Female as well as the top 3 males and top 3 female in&nbsp\;EIGHT different age groups!</p>\n\n<p>Amenities include running t-shirt and grocery tote bag (guaranteed if registered by 4/22)\, food\, music\, goodie bags\, door prizes\, beer\,&nbsp\; AND MORE!<br />\n<br />\n<br />\n&nbsp\;</p>\n\n<div>\n<div>\n<p><em>All&nbsp\;proceeds from this year&#39\;s Broad Street ReRun will benefit The Community Health &amp\; Youth Foundation\, an affiliate of the Chamber of Commerce for the Greater Montgomery County!</em></p>\n</div>\n</div>\n\n<div>\n<div>&nbsp\;</div>\n</div>\n
LOCATION:Lansdale PA
UID:e.2385.6590
SEQUENCE:3
DTSTAMP:20260421T190321Z
URL:https://business.chambergmc.org/events/details/broad-street-rerun-05-19-2018-6590
END:VEVENT

END:VCALENDAR
