BEGIN:VCALENDAR
VERSION:2.0
PRODID:-//ChamberMaster//Event Calendar 2.0//EN
METHOD:PUBLISH
X-PUBLISHED-TTL:P3D
REFRESH-INTERVAL:P3D
CALSCALE:GREGORIAN
BEGIN:VEVENT
DTSTART:20190713T160000Z
DTEND:20190714T040000Z
X-MICROSOFT-CDO-ALLDAYEVENT:FALSE
SUMMARY:Brothers Day 2019
DESCRIPTION:Mark your calendars for Brothers Day 2019 and join us as we celebrate our 1st annual anniversary! Beer\, live music\, food ALL DAY and Night!
X-ALT-DESC;FMTTYPE=text/html:Mark your calendars for Brothers Day 2019 and join us as we celebrate our 1st annual anniversary! Beer\, live music\, food ALL DAY and Night!
LOCATION:Brothers Kershner Brewing Co. 4119 Skippack Pike Skippack\, PA 19474
UID:e.2385.8831
SEQUENCE:3
DTSTAMP:20260422T140748Z
URL:https://business.chambergmc.org/events/details/brothers-day-2019-8831
END:VEVENT

END:VCALENDAR
