BEGIN:VCALENDAR
VERSION:2.0
PRODID:-//ChamberMaster//Event Calendar 2.0//EN
METHOD:PUBLISH
X-PUBLISHED-TTL:P3D
REFRESH-INTERVAL:P3D
CALSCALE:GREGORIAN
BEGIN:VEVENT
DTSTART:20171208T010000Z
DTEND:20171208T050000Z
X-MICROSOFT-CDO-ALLDAYEVENT:FALSE
SUMMARY:Buddy Harris Comedy Showcase Benefitting Toys for Tots
DESCRIPTION:Buddy Harris is headlining yet another great showcase at The Underground. Featuring Philly's best comics\, Megan Goetz\, Marc Staudenmaier\, Chris Dolan and Andy Nolan. This show is a special event to benefit Toys for Tots. Our comedians will be donating their time for free to make you laugh. Bring a toy and get in free. Bring friends\, bring family\, spread the word!
X-ALT-DESC;FMTTYPE=text/html:Buddy Harris is headlining yet another great showcase at The Underground. Featuring Philly&#39\;s best comics\, Megan Goetz\, Marc Staudenmaier\, Chris Dolan and Andy Nolan. This show is a special event to benefit Toys for Tots. Our comedians will be donating their time for free to make you laugh. Bring a toy and get in free. Bring friends\, bring family\, spread the word!
LOCATION:The Underground
UID:e.2385.2917
SEQUENCE:3
DTSTAMP:20260421T123252Z
URL:https://business.chambergmc.org/events/details/buddy-harris-comedy-showcase-benefitting-toys-for-tots-12-07-2017-2917
END:VEVENT

END:VCALENDAR
