BEGIN:VCALENDAR
VERSION:2.0
PRODID:-//ChamberMaster//Event Calendar 2.0//EN
METHOD:PUBLISH
X-PUBLISHED-TTL:P3D
REFRESH-INTERVAL:P3D
CALSCALE:GREGORIAN
BEGIN:VEVENT
DTSTART:20180322T210000Z
DTEND:20180322T230000Z
X-MICROSOFT-CDO-ALLDAYEVENT:FALSE
SUMMARY:Building Your Company: Intellectual Property Basics
DESCRIPTION:In the real world\, intellectual property is fundamental to building most technology and life sciences companies\, and it is helpful to most other companies. Learn the basics\, including the types of intellectual property laws (copyrights\, patents\, trademarks\, etc.)\; free (not freemium) websites for trademark and other research\; how you can file your own copyright applications\; and how to choose lawyers that are the best fit for your business. Bring your questions!\n\nWe are excited to have long term 1776 Member and Mentor\, Fred Wilf\, share his knowledge and passion to help more entrepreneurs in our network.  This is truly 'Where Revolutions Begin'!  Do not miss out on this best in class programming.  \n\nThis event is free and light refreshments will be served. Come before rush hour and work in our great co-working space for free!  Stick around for the talk and a tour of the newest Benjamin's Desk/1776 location.
X-ALT-DESC;FMTTYPE=text/html:<p><span style="font-size:14px"><span style="font-family:arial\,helvetica\,sans-serif">In the real world\, intellectual property is fundamental to building most technology and life sciences companies\, and it is helpful to most other companies. Learn the basics\, including the types of intellectual property laws (copyrights\, patents\, trademarks\, etc.)\; free (not freemium) websites for trademark and other research\; how you can file your own copyright applications\; and how to choose lawyers that are the best fit for your business. Bring your questions!</span></span></p>\n\n<p><span style="font-size:14px"><span style="font-family:arial\,helvetica\,sans-serif">We are excited to have long term 1776 Member and Mentor\, Fred Wilf\, share his knowledge and passion to help more entrepreneurs in our network.&nbsp\; This is truly &#39\;Where Revolutions Begin&#39\;!&nbsp\; Do not miss out on this best in class programming.&nbsp\;&nbsp\;</span></span></p>\n\n<p><span style="font-size:14px"><span style="font-family:arial\,helvetica\,sans-serif">This event is free and light refreshments will be served.&nbsp\;Come before rush hour and work in our great co-working space for free!&nbsp\; Stick around for the talk and a tour of the newest Benjamin&#39\;s Desk/1776 location.</span></span></p>\n
LOCATION:Benjamin's Desk/1776 @ Ambler Yards 300 Brookside Ave Building 4 Ambler\, PA 19002
UID:e.2385.4294
SEQUENCE:3
DTSTAMP:20260421T163245Z
URL:https://business.chambergmc.org/events/details/building-your-company-intellectual-property-basics-03-22-2018-4294
END:VEVENT

END:VCALENDAR
