BEGIN:VCALENDAR
VERSION:2.0
PRODID:-//ChamberMaster//Event Calendar 2.0//EN
METHOD:PUBLISH
X-PUBLISHED-TTL:P3D
REFRESH-INTERVAL:P3D
CALSCALE:GREGORIAN
BEGIN:VEVENT
DTSTART:20180906T180000Z
DTEND:20180906T200000Z
X-MICROSOFT-CDO-ALLDAYEVENT:FALSE
SUMMARY:Cafe Grand Opening
DESCRIPTION:PLEASE JOIN US FOR A FUN AFTERNOON AS WE CELEBRATE THE GRAND OPENING OF OUR NEW CAF ! ENJOY LIVE MUSIC\, LIGHT APPETIZERS\, AND SANGRIA. \n\n(Balcony will also be open pending weather)\n\n\n\nTHURSDAY\, SEPTEMBER 6TH FROM 2:00PM-4:00PM\n\nPLEASE RSVP BY THURSDAY\, AUGUST 30TH TO CHRIS AT 215-257-6701 OR EMAIL CHRIS@HIDDENMEADOWSONTHERIDGE.COM \n\n\n\nWE HOPE TO SEE YOU THERE!
X-ALT-DESC;FMTTYPE=text/html:<span style="color:black">PLEASE JOIN US FOR A FUN AFTERNOON AS WE CELEBRATE THE GRAND OPENING OF OUR NEW CAF&Eacute\;! ENJOY LIVE MUSIC\, LIGHT APPETIZERS\, AND SANGRIA. </span><br />\n<span style="color:black">(Balcony will also be open pending weather)</span><br />\n<br />\n<span style="color:black">THURSDAY\, SEPTEMBER 6<sup>TH</sup> FROM 2:00PM-4:00PM</span><br />\n<span style="color:black">PLEASE RSVP BY THURSDAY\, AUGUST 30<sup>TH</sup> TO CHRIS AT 215-257-6701 OR EMAIL </span><span style="color:black"><span style="font-size:12pt">CHRIS@HIDDENMEADOWSONTHERIDGE.COM </span></span><br />\n<br />\n<span style="color:black"><span style="font-family:candara\,sans-serif"><span style="font-size:12pt">WE HOPE TO SEE YOU THERE!</span></span></span>
LOCATION:
UID:e.2385.7994
SEQUENCE:3
DTSTAMP:20260422T002714Z
URL:https://business.chambergmc.org/events/details/cafe-grand-opening-7994
END:VEVENT

END:VCALENDAR
