BEGIN:VCALENDAR
VERSION:2.0
PRODID:-//ChamberMaster//Event Calendar 2.0//EN
METHOD:PUBLISH
X-PUBLISHED-TTL:P3D
REFRESH-INTERVAL:P3D
CALSCALE:GREGORIAN
BEGIN:VEVENT
DTSTART:20160605T150000Z
DTEND:20160605T180000Z
X-MICROSOFT-CDO-ALLDAYEVENT:FALSE
SUMMARY:Cancer Survivorship Celebration Picnic
DESCRIPTION:Join Grand View Health as we honor National Cancer Survivors Day. We invite cancer survivors and a guest to this special event filled with food\, entertainment and compassionate conversations. We will be featuring Beth Dupree\, MD\, of Healing Consciousness Foundation as our keynote speaker. Registration is required.
X-ALT-DESC;FMTTYPE=text/html:Join Grand View Health as we honor National Cancer Survivors Day. We invite cancer survivors and a guest to this special event filled with food\, entertainment and compassionate conversations. We will be featuring Beth Dupree\, MD\, of Healing Consciousness Foundation as our keynote speaker. Registration is required.
LOCATION:Sellersville Outpatient Center\, 915 Lawn Avenue Sellersville\, PA 18960
UID:e.2385.1590
SEQUENCE:3
DTSTAMP:20260421T162524Z
URL:https://business.chambergmc.org/events/details/cancer-survivorship-celebration-picnic-06-05-2016-1590
END:VEVENT

END:VCALENDAR
