BEGIN:VCALENDAR
VERSION:2.0
PRODID:-//ChamberMaster//Event Calendar 2.0//EN
METHOD:PUBLISH
X-PUBLISHED-TTL:P3D
REFRESH-INTERVAL:P3D
CALSCALE:GREGORIAN
BEGIN:VEVENT
DTSTART:20191207T200000Z
DTEND:20191208T020000Z
X-MICROSOFT-CDO-ALLDAYEVENT:FALSE
SUMMARY:Candlelight Tours
DESCRIPTION:The soft glow of candles will guide you throughout the Farmstead for tours showcasing colonial music\, seasonal entertaining\, and a visit from Belsnickel\, a Pennsylvania German St. Nicholas in furs. (Last tour begins at 8:30pm). All ages\; $2 per person suggested donation.
X-ALT-DESC;FMTTYPE=text/html:The soft glow of candles will guide you throughout the Farmstead for tours showcasing colonial music\, seasonal entertaining\, and a visit from Belsnickel\, a Pennsylvania German St. Nicholas in furs. (Last tour begins at 8:30pm). All ages\; $2 per person suggested donation.
LOCATION:Peter Wentz Farmstead 2030 Shearer Road Lansdale\, PA 19446
UID:e.2385.8799
SEQUENCE:3
DTSTAMP:20260423T144651Z
URL:https://business.chambergmc.org/events/details/candlelight-tours-8799
END:VEVENT

END:VCALENDAR
