BEGIN:VCALENDAR
VERSION:2.0
PRODID:-//ChamberMaster//Event Calendar 2.0//EN
METHOD:PUBLISH
X-PUBLISHED-TTL:P3D
REFRESH-INTERVAL:P3D
CALSCALE:GREGORIAN
BEGIN:VEVENT
DTSTART:20200121T223000Z
DTEND:20200122T010000Z
X-MICROSOFT-CDO-ALLDAYEVENT:FALSE
SUMMARY:Card Exchange & Trash Industry Seminar
DESCRIPTION:The Lower Providence Business Association and the North Penn Chapter of the Institute of Management Accountants will be co-hosting a FREE Business Card Exchange at the JP Mascaro Corporate Headquarters at 2650 Audubon Road in Audubon\, Pennsylvania. Light appetizers and refreshments will be provided and there will be a raffle for door prizes. Following the Business Card Exchange\, please join join the Institute of Management Accountants for a Panel Discussion hosted by JP Mascaro. The panel will discuss the best practices from one of the region's leading waste management companies and provide guidance for corporate/individual responsibilities for best environmental practices. One free hour of Continuing Professional Education credit will be available for CPA's and CMA's for attending the discussion. For Lower Providence Business Association members\, this FREE networking event replaces the January monthly meetings. Elections will held during this event. For more details contact George Bancroft at npimacompliance@gmail.com.
X-ALT-DESC;FMTTYPE=text/html:The Lower Providence Business Association and the North Penn Chapter of the Institute of Management Accountants will be co-hosting a FREE Business Card Exchange at the JP Mascaro Corporate Headquarters at 2650 Audubon Road in Audubon\, Pennsylvania. Light appetizers and refreshments will be provided and there will be a raffle for door prizes. Following the Business Card Exchange\, please join join the Institute of Management Accountants for a Panel Discussion hosted by JP Mascaro. The panel will discuss the best practices from one of the region&#39\;s leading waste management companies and provide guidance for corporate/individual responsibilities for best environmental practices. One free hour of Continuing Professional Education credit will be available for CPA&rsquo\;s and CMA&rsquo\;s for attending the discussion. For Lower Providence Business Association members\, this FREE networking event replaces the January monthly meetings. Elections will held during this event. For more details contact George Bancroft at npimacompliance@gmail.com.
LOCATION:J.P. Mascaro & Sons-Corporate Offices 2650 Audubon Rd Audubon\, PA 19403
UID:e.2385.10213
SEQUENCE:3
DTSTAMP:20260423T132509Z
URL:https://business.chambergmc.org/events/details/card-exchange-trash-industry-seminar-10213
END:VEVENT

END:VCALENDAR
