BEGIN:VCALENDAR
VERSION:2.0
PRODID:-//ChamberMaster//Event Calendar 2.0//EN
METHOD:PUBLISH
X-PUBLISHED-TTL:P3D
REFRESH-INTERVAL:P3D
CALSCALE:GREGORIAN
BEGIN:VEVENT
DTSTART:20180309T233000Z
DTEND:20180310T030000Z
X-MICROSOFT-CDO-ALLDAYEVENT:FALSE
SUMMARY:Cardinal Hollow Winery’s International Dinner Series
DESCRIPTION:Introducing Cardinal Hollow Winery's International Dinner Series\, kicking off on Friday March 9th 2018 The series will focus on international flair from around the globe\, offering a new prix fixe menu each month. The first of the series will offer Irish delicacies\, while listening to the lively sounds of traditional Irish music. Come out and experience a night of culinary magic for your dinner\, date night\, or girls night out. For $29/pp\, you will receive: - Irish Pub Salad - Corned Beef and Cabbage with Calcannon (Irish mashed potatoes mixed with greens and scallions) - Chocolate Guinness Cake Wine\, beer and cocktails are available for purchase. To Learn More: https://kazzit.com/event/cardinal-hollow-winerys-international-dinner-series.html
X-ALT-DESC;FMTTYPE=text/html:Introducing Cardinal Hollow Winery&rsquo\;s International Dinner Series\, kicking off on Friday March 9th 2018 The series will focus on international flair from around the globe\, offering a new prix fixe menu each month. The first of the series will offer Irish delicacies\, while listening to the lively sounds of traditional Irish music. Come out and experience a night of culinary magic for your dinner\, date night\, or girls night out. For $29/pp\, you will receive: - Irish Pub Salad - Corned Beef and Cabbage with Calcannon (Irish mashed potatoes mixed with greens and scallions) - Chocolate Guinness Cake Wine\, beer and cocktails are available for purchase. To Learn More: https://kazzit.com/event/cardinal-hollow-winerys-international-dinner-series.html
LOCATION:Cardinal Hollow 1830 West Point Pike\, Lansdale\, PA 19486
UID:e.2385.4288
SEQUENCE:3
DTSTAMP:20260421T174953Z
URL:https://business.chambergmc.org/events/details/cardinal-hollow-winery-s-international-dinner-series-03-09-2018-4288
END:VEVENT

END:VCALENDAR
