BEGIN:VCALENDAR
VERSION:2.0
PRODID:-//ChamberMaster//Event Calendar 2.0//EN
METHOD:PUBLISH
X-PUBLISHED-TTL:P3D
REFRESH-INTERVAL:P3D
CALSCALE:GREGORIAN
BEGIN:VEVENT
DTSTART:20181002T200000Z
DTEND:20181002T230000Z
X-MICROSOFT-CDO-ALLDAYEVENT:FALSE
SUMMARY:Career Fair & CEU Event
DESCRIPTION:Dual Event: Career Fair for all departments\, (Health Center\, Dining\, Housekeeping\, Maintenance\, Grounds\, Transportation/Security\, Marketing\, Resident Care\, Life Enrichment\, Fitness\, Administration)\, with on-the-spot interviews AND CEU Classes - Registered Nurses can earn 2 credits at a professional level continuing education class\; LPN's/CNA's can earn a certificate of attendance. Two sessions for both Career Fair AND the CEU Classes: 8:00a-11:00a - Career Fair and CEU Class (Topic   "End of Life: The Conversation & the Laws")\, Presenter\, Linda Anderson\, Esq.\, LL.M.\, CELA 4:00p-7:00p - Career fair and CEU Class (Topic   "Ethical Issues for Elder Care Professionals")\, Presenter\, Robert Slutsky\, Elder Law Attorney Space for the CE classes limited! RSVP to save your space: HR@mwood.org Provide first and last name\, phone number\, and email address. Specify session and topic.
X-ALT-DESC;FMTTYPE=text/html:Dual Event: Career Fair for all departments\, (Health Center\, Dining\, Housekeeping\, Maintenance\, Grounds\, Transportation/Security\, Marketing\, Resident Care\, Life Enrichment\, Fitness\, Administration)\, with on-the-spot interviews AND CEU Classes - Registered Nurses can earn 2 credits at a professional level continuing education class\; LPN&rsquo\;s/CNA&rsquo\;s can earn a certificate of attendance. Two sessions for both Career Fair AND the CEU Classes: 8:00a-11:00a - Career Fair and CEU Class (Topic &ndash\; &ldquo\;End of Life: The Conversation &amp\; the Laws&rdquo\;)\, Presenter\, Linda Anderson\, Esq.\, LL.M.\, CELA 4:00p-7:00p - Career fair and CEU Class (Topic &ndash\; &ldquo\;Ethical Issues for Elder Care Professionals&rdquo\;)\, Presenter\, Robert Slutsky\, Elder Law Attorney Space for the CE classes limited! RSVP to save your space: HR@mwood.org Provide first and last name\, phone number\, and email address. Specify session and topic.
LOCATION:Meadowood Senior Living Meadowood Senior Living 3205 Skippack Pike Worcester\, PA 19490
UID:e.2385.8047
SEQUENCE:3
DTSTAMP:20260422T014454Z
URL:https://business.chambergmc.org/events/details/career-fair-ceu-event-10-02-2018-8047
END:VEVENT

END:VCALENDAR
