BEGIN:VCALENDAR
VERSION:2.0
PRODID:-//ChamberMaster//Event Calendar 2.0//EN
METHOD:PUBLISH
X-PUBLISHED-TTL:P3D
REFRESH-INTERVAL:P3D
CALSCALE:GREGORIAN
BEGIN:VEVENT
DTSTART:20201011T000000Z
DTEND:20201011T030000Z
X-MICROSOFT-CDO-ALLDAYEVENT:FALSE
SUMMARY:"Cellar Door" Performing Live on the Patio
DESCRIPTION:The Greene Turtle has live music every Friday and Saturday in October\, Bands perform on the Patio\, following all social distancing guidelines with extended outdoor seating. \n\n\n\nThis Saturday for the first time "Cellar Door" will be performing your favorites and taking requests!!\n\nCome for dinner stay for the music!!\n\nReservations Recommended \n\nwww.opentable.com
X-ALT-DESC;FMTTYPE=text/html:The Greene Turtle has live music every Friday and Saturday in October\, Bands perform on the Patio\, following all social distancing guidelines with extended outdoor seating.&nbsp\;<br />\n<br />\nThis Saturday for the first time &quot\;Cellar Door&quot\; will be performing your favorites and taking requests!!<br />\nCome for dinner stay for the music!!<br />\nReservations Recommended&nbsp\;<br />\nwww.opentable.com&nbsp\;
LOCATION:The Greene Turtle Restaurant & Sports Bar 1100 Bethlehem Pike North Wales PA 19454
UID:e.2385.10768
SEQUENCE:3
DTSTAMP:20260423T014001Z
URL:https://business.chambergmc.org/events/details/cellar-door-performing-live-on-the-patio-10768
END:VEVENT

END:VCALENDAR
