BEGIN:VCALENDAR
VERSION:2.0
PRODID:-//ChamberMaster//Event Calendar 2.0//EN
METHOD:PUBLISH
X-PUBLISHED-TTL:P3D
REFRESH-INTERVAL:P3D
CALSCALE:GREGORIAN
BEGIN:VEVENT
DTSTART:20210422T160000Z
DTEND:20210422T180000Z
X-MICROSOFT-CDO-ALLDAYEVENT:FALSE
SUMMARY:Center for Loss & Bereavement Professional Roundtable Training- Resiliency\, Rebirth & Resourcefulness
DESCRIPTION:The Center for Loss & Bereavement is hosting a Professional Webinar on:\n\n\nResilience\, Rebirth & Resourcefulness: Meaning Making in the Face of Adversity\n\nApril 22\, 2021 12:00 pm   2:00 pm\n\nCE's Available!\n\nThroughout the past year\, the COVID-19 pandemic has opened our eyes to the effects of death and non-death related loss. We understand that as time passes\, grief often changes. This training will focus on helping professionals foster the concepts of rebirth\, resilience and resourcefulness within the individuals\, families and groups that we work with to promote growth and healing in the face of adversity.\n\n\n\nTo register\, please visit http://bereavementcenter.org/trainingregistration/ or contact Ashley Herr at amh@bereavementcenter.org for more information
X-ALT-DESC;FMTTYPE=text/html:<div style="text-align:center"><span style="background-color:rgb(255\, 255\, 255)\; color:rgb(9\, 96\, 87)\; font-family:roboto\,sans-serif\; font-size:16px"><span style="font-size:18px">The Center for Loss &amp\; Bereavement is hosting a Professional Webinar on:</span></span></div>\n\n<div style="text-align:center">\n<p style="text-align:center"><strong>Resilience\, Rebirth &amp\; Resourcefulness: Meaning Making in the Face of Adversity</strong><br />\n<strong>April 22\, 2021 12:00 pm &ndash\; 2:00 pm<br />\nCE&#39\;s Available!</strong></p>\n\n<p>Throughout the past year\, the COVID-19 pandemic has opened our eyes to the effects of death and non-death related loss. We understand that as time passes\, grief often changes. This training will focus on helping professionals foster the concepts of rebirth\, resilience and resourcefulness within the individuals\, families and groups that we work with to promote growth and healing in the face of adversity.</p>\n\n<p><br />\nTo register\, please visit&nbsp\;http://bereavementcenter.org/trainingregistration/ or contact Ashley Herr at amh@bereavementcenter.org for more information</p>\n</div>\n
LOCATION:Webinar format via Zoom
UID:e.2385.11021
SEQUENCE:3
DTSTAMP:20260422T171538Z
URL:https://business.chambergmc.org/events/details/center-for-loss-bereavement-professional-roundtable-training-resiliency-rebirth-resourcefulness-11021
END:VEVENT

END:VCALENDAR
