BEGIN:VCALENDAR
VERSION:2.0
PRODID:-//ChamberMaster//Event Calendar 2.0//EN
METHOD:PUBLISH
X-PUBLISHED-TTL:P3D
REFRESH-INTERVAL:P3D
CALSCALE:GREGORIAN
BEGIN:VEVENT
DTSTART:20180523T123000Z
DTEND:20180523T160000Z
X-MICROSOFT-CDO-ALLDAYEVENT:FALSE
SUMMARY:CEU Training Event for Nurses and Social Workers
DESCRIPTION:What is Stewards of Children  ?\n\nStewards of Children  is a prevention training that teaches adults how to prevent\, recognize\, and react responsibly to child sexual abuse. It is the only nationally distributed\, evidence-informed program proven to increase knowledge\, improve attitudes\, and change child protective behaviors. This training uses a practical\, five-step approach to prevention and response that enables adults to protect the children in their lives.\n\n \n\nNeed Continuing Education?\n\nStewards of Children  is approved for two (2) contact hours of continuing education by The National Association of Social Workers and by the Ohio Nurses Association (OBN-001-91)\, an accredited approver by the American Nurses Credentialing Center's Commission on Accreditation.
X-ALT-DESC;FMTTYPE=text/html:<span style="font-size:20pt"><span style="font-family:futura pt bold\,sans-serif"><span style="color:rgb(146\, 208\, 80)">What is <em>Stewards of Children</em></span></span></span><span style="font-size:20pt"><span style="font-family:pt sans\,serif"><span style="color:rgb(146\, 208\, 80)"> <em><sup><span style="font-family:pt sans\,serif">&reg\;</span></sup></em></span></span></span><span style="font-size:20pt"><span style="font-family:futura pt bold\,sans-serif"><span style="color:rgb(146\, 208\, 80)">?</span></span></span><br />\n<em><span style="font-size:11pt"><span style="font-family:arial\,sans-serif"><span style="color:rgb(118\, 113\, 113)">Stewards of Children<sup>&reg\;</sup></span></span></span></em><span style="font-size:11pt"><span style="font-family:arial\,sans-serif"><span style="color:rgb(118\, 113\, 113)"> is a prevention training that teaches adults how to prevent\, recognize\, and react responsibly to child sexual abuse. It is the only nationally distributed\, evidence-informed program proven to increase knowledge\, improve attitudes\, and change child protective behaviors. This training uses a practical\, five-step approach to prevention and response that enables adults to protect the children in their lives.</span></span></span><br />\n&nbsp\;<br />\n<span style="font-size:20pt"><span style="font-family:futura pt bold\,sans-serif"><span style="color:rgb(146\, 208\, 80)">Need Continuing Education?</span></span></span><br />\n<em><span style="font-size:11pt"><span style="font-family:arial\,sans-serif"><span style="color:rgb(118\, 113\, 113)">Stewards of Children&reg\; is approved for two (2) contact hours of continuing education by The National Association of Social Workers and by the Ohio Nurses Association (OBN-001-91)\, an accredited approver by the American Nurses Credentialing Center&rsquo\;s Commission on Accreditation.</span></span></span></em><br />\n&nbsp\;
LOCATION:LOCATION: Hidden Meadows on the Ridge 340 Farmers Lane Sellersville\, PA 18960
UID:e.2385.6671
SEQUENCE:3
DTSTAMP:20260421T190208Z
URL:https://business.chambergmc.org/events/details/ceu-training-event-for-nurses-and-social-workers-6671
END:VEVENT

END:VCALENDAR
