BEGIN:VCALENDAR
VERSION:2.0
PRODID:-//ChamberMaster//Event Calendar 2.0//EN
METHOD:PUBLISH
X-PUBLISHED-TTL:P3D
REFRESH-INTERVAL:P3D
CALSCALE:GREGORIAN
BEGIN:VEVENT
DTSTART:20180613T230000Z
DTEND:20180614T003000Z
X-MICROSOFT-CDO-ALLDAYEVENT:FALSE
SUMMARY:Changing Climate\, Changing Landscapes: Vincent Cotrone
DESCRIPTION:Explore the science and impacts of a changing climate on our landscape\, including plant and insect phenological shifts\, regional species movement\, extended growing seasons\, increased carbon levels\, heat waves and changes in moisture patterns. We'll discuss several adaptive and mitigation strategies that can help our communities and landscapes prepare for change.\n\n\n\nSince 1991\, Vinnie Cotrone has worked for Penn State University as a Regional Urban Forester and educator covering 18 counties in Northeastern Pennsylvania. He has worked with many municipalities and organizations to develop community forestry programs\, additionally providing support to green industry partners\, providing technical assistance and educational programming. More recently he has worked with municipalities and engineers on green infrastructure projects to manage urban stormwater. As a Penn State Extension Urban Forester\, he has developed educational programs and presented throughout Pennsylvania on various topics ranging from tree species selection\, planting and proper tree pruning practices to establishing shade tree commission\, inventorying trees\, developing shade tree ordinances and managing stormwater.\n\n\n\nDesigned for the home and hobby gardeners as well as horticultural professionals\, the Ambler Arboretum Horticulture Lecture Series\, presented by regional experts\, will inspire participants while challenging their way of thinking about horticulture.\n\n\n\nProgram registration begins at 6:30 p.m.\, the presentation begins at 7 p.m. and Q&A follow at 8 p.m. Information: kathleen.salisbury@temple.edu or 267-468-8400.
X-ALT-DESC;FMTTYPE=text/html:<span style="color:rgb(34\, 34\, 34)\; font-family:droid sans\,sans-serif\; font-size:14px">Explore the science and impacts of a changing climate on our landscape\, including plant and insect phenological shifts\, regional species movement\, extended growing seasons\, increased carbon levels\, heat waves and changes in moisture patterns. We&rsquo\;ll discuss several adaptive and mitigation strategies that can help our communities and landscapes prepare for change.<br />\n<br />\nSince 1991\, Vinnie Cotrone has worked for Penn State University as a Regional Urban Forester and educator covering 18 counties in Northeastern Pennsylvania. He has worked with many municipalities and organizations to develop community forestry programs\, additionally providing support to green industry partners\, providing technical assistance and educational programming. More recently he has worked with municipalities and engineers on green infrastructure projects to manage urban stormwater. As a Penn State Extension Urban Forester\, he has developed educational programs and presented throughout Pennsylvania on various topics ranging from tree species selection\, planting and proper tree pruning practices to establishing shade tree commission\, inventorying trees\, developing shade tree ordinances and managing stormwater.<br />\n<br />\nDesigned for the home and hobby gardeners as well as horticultural professionals\, the Ambler Arboretum Horticulture Lecture Series\, presented by regional experts\, will inspire participants while challenging their way of thinking about horticulture.<br />\n<br />\nProgram registration begins at 6:30 p.m.\, the presentation begins at 7 p.m. and Q&amp\;A follow at 8 p.m. Information:&nbsp\;</span><a href="mailto:kathleen.salisbury@temple.edu" style="box-sizing: border-box\; background-image: initial\; background-position: initial\; background-size: initial\; background-repeat: initial\; background-attachment: initial\; background-origin: initial\; background-clip: initial\; text-decoration-line: none\; color: rgb(0\, 123\, 194)\; font-family: &quot\;Droid Sans&quot\;\, sans-serif\; font-size: 14px\;">kathleen.salisbury@temple.edu</a><span style="color:rgb(34\, 34\, 34)\; font-family:droid sans\,sans-serif\; font-size:14px">&nbsp\;or 267-468-8400.</span>
LOCATION:Temple University Ambler\, 580 Meetinghouse Road\, Ambler\, PA 19002
UID:e.2385.7693
SEQUENCE:3
DTSTAMP:20260421T201638Z
URL:https://business.chambergmc.org/events/details/changing-climate-changing-landscapes-vincent-cotrone-7693
END:VEVENT

END:VCALENDAR
