BEGIN:VCALENDAR
VERSION:2.0
PRODID:-//ChamberMaster//Event Calendar 2.0//EN
METHOD:PUBLISH
X-PUBLISHED-TTL:P3D
REFRESH-INTERVAL:P3D
CALSCALE:GREGORIAN
BEGIN:VEVENT
DTSTART:20200107T000000Z
DTEND:20200107T020000Z
X-MICROSOFT-CDO-ALLDAYEVENT:FALSE
SUMMARY:Charity Bingo for Sebastian Riding Associates
DESCRIPTION:Come out and participate in charity bingo at DaVinci's Pub to support Sebastian Riding Associates. We will be the charity for every Monday 7 to 9 pm through the month of January. No sign up or registration needed just come out and have fun!
X-ALT-DESC;FMTTYPE=text/html:Come out and participate in charity bingo at DaVinci&#39\;s Pub to support Sebastian Riding Associates. We will be the charity for every Monday 7 to 9 pm through the month of January. No sign up or registration needed just come out and have fun!
LOCATION:Davinci's Pub 217 E. Main St. Collegeville\, PA 19426
UID:e.2385.10216
SEQUENCE:3
DTSTAMP:20260423T133313Z
URL:https://business.chambergmc.org/events/details/charity-bingo-for-sebastian-riding-associates-10216
END:VEVENT

END:VCALENDAR
