BEGIN:VCALENDAR
VERSION:2.0
PRODID:-//ChamberMaster//Event Calendar 2.0//EN
METHOD:PUBLISH
X-PUBLISHED-TTL:P3D
REFRESH-INTERVAL:P3D
CALSCALE:GREGORIAN
BEGIN:VEVENT
DTSTART:20181013T160000Z
DTEND:20181013T180000Z
X-MICROSOFT-CDO-ALLDAYEVENT:FALSE
SUMMARY:Clean Cars Party!
DESCRIPTION:Join us as we celebrate the 6th birthday of our fuel-efficiency standards -- which the current administration is threatening to rollback. These standards are the single largest effort our nation is enacting to combat climate change and we only have until October 26th to fight for them. Tour around several fuel-efficient and electric vehicles and learn more about this campaign while enjoying some (free!) cake and an outdoor beer garden.  Join us to take action to protect our fuel efficiency standards from this dangerous attack. Cleaner Cars for Cleaner Air!
X-ALT-DESC;FMTTYPE=text/html:Join us as we celebrate the 6th birthday of our fuel-efficiency standards -- which the current administration is threatening to rollback. These standards are the single largest effort our nation is enacting to combat climate change and we only have until October 26th to fight for them. Tour around several fuel-efficient and electric vehicles and learn more about this campaign while enjoying some (free!) cake and an outdoor beer garden.&nbsp\; Join us to take action to protect our fuel efficiency standards from this dangerous attack. Cleaner Cars for Cleaner Air!
LOCATION:Conshohocken Brewing Company's Bridgeport Brewpub (3 Dekalb St\, Bridgeport\, PA 19405)
UID:e.2385.8061
SEQUENCE:3
DTSTAMP:20260422T014437Z
URL:https://business.chambergmc.org/events/details/clean-cars-party-8061
END:VEVENT

END:VCALENDAR
