BEGIN:VCALENDAR
VERSION:2.0
PRODID:-//ChamberMaster//Event Calendar 2.0//EN
METHOD:PUBLISH
X-PUBLISHED-TTL:P3D
REFRESH-INTERVAL:P3D
CALSCALE:GREGORIAN
BEGIN:VEVENT
DTSTART:20190119T130000Z
DTEND:20190119T170000Z
X-MICROSOFT-CDO-ALLDAYEVENT:FALSE
SUMMARY:Clothing Drive Fundraiser
DESCRIPTION:Time to clean out your closets and help support the Whitemarsh Township Parks and Recreation Department and Colonial Neighborhood Council at the 2nd annual Clothing Drive Fundraiser! We are collecting in standard size kitchen trash bags (13 gallon bags or any drawstring garbage bag): usable and wearable men's\, women's\, and children's clothing and shoes. Accessories: belts\, handbags\, hats\, scarves\, ties\, gloves\, etc. (no hangers). In person drop off dates and times: Friday\, Jan 18th 8am-2pm\; Saturday\, January 19th 8am-12pm\; Monday\, January 21st 8am-12pm. If staff are not on site\, feel free to drop off bags under the overhang - last drop off date is Wednesday\, January 23rd at 8pm. Those who donate can receive tax reduction receipts. If staff are not on site\, please visit the Koontz Park office for a receipt. Drop off location: Cedar Grove Barn\, 100 Cedar Grove Road\, Conshohocken\, PA 19428
X-ALT-DESC;FMTTYPE=text/html:Time to clean out your closets and help support the Whitemarsh Township Parks and Recreation Department and Colonial Neighborhood Council at the 2nd annual Clothing Drive Fundraiser! We are collecting in standard size kitchen trash bags (13 gallon bags or any drawstring garbage bag): usable and wearable men&#39\;s\, women&#39\;s\, and children&#39\;s clothing and shoes. Accessories: belts\, handbags\, hats\, scarves\, ties\, gloves\, etc. (no hangers). In person drop off dates and times: Friday\, Jan 18th 8am-2pm\; Saturday\, January 19th 8am-12pm\; Monday\, January 21st 8am-12pm. If staff are not on site\, feel free to drop off bags under the overhang - last drop off date is Wednesday\, January 23rd at 8pm. Those who donate can receive tax reduction receipts. If staff are not on site\, please visit the Koontz Park office for a receipt. Drop off location: Cedar Grove Barn\, 100 Cedar Grove Road\, Conshohocken\, PA 19428
LOCATION:Cedar Grove Barn 100 Cedar Grove Road Conshohocken\, PA 19428
UID:e.2385.8095
SEQUENCE:3
DTSTAMP:20260422T053520Z
URL:https://business.chambergmc.org/events/details/clothing-drive-fundraiser-01-19-2019-8095
END:VEVENT

END:VCALENDAR
