BEGIN:VCALENDAR
VERSION:2.0
PRODID:-//ChamberMaster//Event Calendar 2.0//EN
METHOD:PUBLISH
X-PUBLISHED-TTL:P3D
REFRESH-INTERVAL:P3D
CALSCALE:GREGORIAN
BEGIN:VEVENT
DTSTART:20160312T150000Z
DTEND:20160312T170000Z
X-MICROSOFT-CDO-ALLDAYEVENT:FALSE
SUMMARY:Colon Cancer Awareness: Get Your Rear in Gear!
DESCRIPTION:March is Colorectal Cancer Awareness Month and Grand View Health wants you to get the facts. Join us for an informational session on screening guidelines\, risk factors\, prevention and more. Learn about colon cancer progression through an interactive life-size inflatable super colon. Refreshments will be provided.
X-ALT-DESC;FMTTYPE=text/html:March is Colorectal Cancer Awareness Month and Grand View Health wants you to get the facts. Join us for an informational session on screening guidelines\, risk factors\, prevention and more. Learn about colon cancer progression through an interactive life-size inflatable super colon. Refreshments will be provided.
LOCATION:Sellersville Outpatient Center First Floor Conference Room 915 Lawn Avenue Sellersville\, PA 18960
UID:e.2385.1517
SEQUENCE:3
DTSTAMP:20260421T112312Z
URL:https://business.chambergmc.org/events/details/colon-cancer-awareness-get-your-rear-in-gear-03-12-2016-1517
END:VEVENT

END:VCALENDAR
