BEGIN:VCALENDAR
VERSION:2.0
PRODID:-//ChamberMaster//Event Calendar 2.0//EN
METHOD:PUBLISH
X-PUBLISHED-TTL:P3D
REFRESH-INTERVAL:P3D
CALSCALE:GREGORIAN
BEGIN:VEVENT
DTSTART:20180406T223000Z
DTEND:20180407T020000Z
X-MICROSOFT-CDO-ALLDAYEVENT:FALSE
SUMMARY:Comedy Night
DESCRIPTION:Comedy night returns to the winery. Jones Comedy will host a night of fun and laughter. Tickets are $25 per person for comedy show. An Italian Buffet dinner being offered before showtime for $20 per person. Reservations required. Call 267-640-9159 for information and reservations.
X-ALT-DESC;FMTTYPE=text/html:Comedy night returns to the winery. Jones Comedy will host a night of fun and laughter. Tickets are $25 per person for comedy show. An Italian Buffet dinner being offered before showtime for $20 per person. Reservations required. Call 267-640-9159 for information and reservations.
LOCATION:Cardinal Hollow Winery 1830 West Point Pike Lansdale\, PA 19446
UID:e.2385.4280
SEQUENCE:3
DTSTAMP:20260421T174441Z
URL:https://business.chambergmc.org/events/details/comedy-night-04-06-2018-4280
END:VEVENT

END:VCALENDAR
