BEGIN:VCALENDAR
VERSION:2.0
PRODID:-//ChamberMaster//Event Calendar 2.0//EN
METHOD:PUBLISH
X-PUBLISHED-TTL:P3D
REFRESH-INTERVAL:P3D
CALSCALE:GREGORIAN
BEGIN:VEVENT
DTSTART:20180713T223000Z
DTEND:20180714T020000Z
X-MICROSOFT-CDO-ALLDAYEVENT:FALSE
SUMMARY:Comedy Night at the Winery
DESCRIPTION:Join us for laughter\, fun and wine. Jonesman Comedy returns to the winery on July 13. Comedy starts at 7:30. Tickets are $25 per person for comedy with optional dinner available for $20 per person. Dinner begins at 6:30. Wine\, beer and spirits available for purchase. reservations required 267-640-9159
X-ALT-DESC;FMTTYPE=text/html:Join us for laughter\, fun and wine. Jonesman Comedy returns to the winery on July 13. Comedy starts at 7:30. Tickets are $25 per person for comedy with optional dinner available for $20 per person. Dinner begins at 6:30. Wine\, beer and spirits available for purchase. reservations required 267-640-9159
LOCATION:Cardinal Hollow Winery
UID:e.2385.7842
SEQUENCE:3
DTSTAMP:20260421T214240Z
URL:https://business.chambergmc.org/events/details/comedy-night-at-the-winery-07-13-2018-7842
END:VEVENT

END:VCALENDAR
