BEGIN:VCALENDAR
VERSION:2.0
PRODID:-//ChamberMaster//Event Calendar 2.0//EN
METHOD:PUBLISH
X-PUBLISHED-TTL:P3D
REFRESH-INTERVAL:P3D
CALSCALE:GREGORIAN
BEGIN:VEVENT
DTSTART:20181109T230000Z
DTEND:20181110T020000Z
X-MICROSOFT-CDO-ALLDAYEVENT:FALSE
SUMMARY:Comedy Night At the Winery
DESCRIPTION:Come join us for a fun laugh filled night with optional dinner.  3 comedians from the Jonesman Group will perform.  Tickets for comedy are $25 per person and the optional Italian buffet dinner featuring house made Lasagna for $20 per person extra.  Reservations are required.  Doors open at 6pm\, dinner 6:30\, Comedy on at 7pm.  Wine\, Beer and Liquor are availble at the bar for purchase.  No minimums.
X-ALT-DESC;FMTTYPE=text/html:Come join us for a fun laugh filled night with optional dinner.&nbsp\; 3 comedians from the Jonesman Group will perform.&nbsp\; Tickets for comedy are $25 per person and the optional Italian buffet dinner featuring house made Lasagna for $20 per person extra.&nbsp\; Reservations are required.&nbsp\; Doors open at 6pm\, dinner 6:30\, Comedy on at 7pm.&nbsp\; Wine\, Beer and Liquor are availble at the bar for purchase.&nbsp\; No minimums.
LOCATION:1830 West Point Pike West Point PA 19486
UID:e.2385.8091
SEQUENCE:3
DTSTAMP:20260422T041019Z
URL:https://business.chambergmc.org/events/details/comedy-night-at-the-winery-11-09-2018-8091
END:VEVENT

END:VCALENDAR
