BEGIN:VCALENDAR
VERSION:2.0
PRODID:-//ChamberMaster//Event Calendar 2.0//EN
METHOD:PUBLISH
X-PUBLISHED-TTL:P3D
REFRESH-INTERVAL:P3D
CALSCALE:GREGORIAN
BEGIN:VEVENT
DTSTART:20180608T223000Z
DTEND:20180609T013000Z
X-MICROSOFT-CDO-ALLDAYEVENT:FALSE
SUMMARY:Comedy Night at the Winery
DESCRIPTION:Comedy Night at the Winery.  Jonesman Comedy is back at the Winery for a night of laughter and fun. Tickets for comedy show are $25 per person with an add on dinner option of $20 per person.  Comedy starts at 7:30 pm.  Doors open for dinner at 6:30 pm.  Reservations are required for both dinner and comedy show.  Call 267-640-9159 for reservations.
X-ALT-DESC;FMTTYPE=text/html:Comedy Night at the Winery.&nbsp\; Jonesman Comedy is back at the Winery for a night of laughter and fun. Tickets for comedy show are $25 per person with an add on dinner option of $20 per person.&nbsp\; Comedy starts at 7:30 pm.&nbsp\; Doors open for dinner at 6:30 pm.&nbsp\; Reservations are required for both dinner and comedy show.&nbsp\; Call 267-640-9159 for reservations.
LOCATION:Cardinal Hollow Winery 1830 West Point Pike Lansdale\, PA 19446
UID:e.2385.6677
SEQUENCE:3
DTSTAMP:20260421T201730Z
URL:https://business.chambergmc.org/events/details/comedy-night-at-the-winery-6677
END:VEVENT

END:VCALENDAR
