BEGIN:VCALENDAR
VERSION:2.0
PRODID:-//ChamberMaster//Event Calendar 2.0//EN
METHOD:PUBLISH
X-PUBLISHED-TTL:P3D
REFRESH-INTERVAL:P3D
CALSCALE:GREGORIAN
BEGIN:VEVENT
DTSTART:20160519T130000Z
DTEND:20160519T140000Z
X-MICROSOFT-CDO-ALLDAYEVENT:FALSE
SUMMARY:Common Shoulder Problems and Injuries
DESCRIPTION:Meet Orthopedic Surgeon\, James M. Hurley\, MD\, for a discussion on common warning signs of shoulder problems and injuries adults face. During this program you will learn about surgical and non-surgical options available. Refreshments will be provided.
X-ALT-DESC;FMTTYPE=text/html:Meet Orthopedic Surgeon\, James M. Hurley\, MD\, for a discussion on common warning signs of shoulder problems and injuries adults face. During this program you will learn about surgical and non-surgical options available. Refreshments will be provided.
LOCATION:Sellersville Outpatient Center\, First Floor\, Conference Room 915\, Lawn Avenue Sellersville\, PA 18960
UID:e.2385.1551
SEQUENCE:3
DTSTAMP:20260421T132908Z
URL:https://business.chambergmc.org/events/details/common-shoulder-problems-and-injuries-05-19-2016-1551
END:VEVENT

END:VCALENDAR
