BEGIN:VCALENDAR
VERSION:2.0
PRODID:-//ChamberMaster//Event Calendar 2.0//EN
METHOD:PUBLISH
X-PUBLISHED-TTL:P3D
REFRESH-INTERVAL:P3D
CALSCALE:GREGORIAN
BEGIN:VEVENT
DTSTART;VALUE=DATE:20180205
DTEND;VALUE=DATE:20180206
TRANSP:TRANSPARENT
X-MICROSOFT-CDO-ALLDAYEVENT:TRUE
SUMMARY:Community Rebuild for the Catanzaro Family
DESCRIPTION:The Greene Turtle is throwing a fundraising event for our awesome regulars the Catanzaro's and their four little boys who recently lost their home in a tragic fire. We will have flyers for guests to print and bring in and 20% of your check will go to the Catanzaro family's efforts in rebuilding their home. \n\n\n\nA special thanks to the Montgomery Township fire department who kept the family safe and put out the fire. To honor them and all Fire Fighters we will be a holding a fire fighter appreciation day\, where the fire personnel and their families will receive 15% off of their bill on 2/5/18.
X-ALT-DESC;FMTTYPE=text/html:<span style="background-color:rgb(255\, 255\, 255)\; color:rgb(75\, 79\, 86)\; font-family:system-ui\,-apple-system\,blinkmacsystemfont\,.sfnstext-regular\,sans-serif\; font-size:14px">The Greene Turtle is throwing a fundraising event for our awesome regulars the Catanzaro&#39\;s and their four little boys who recently lost their home in a tragic fire. We will have flyers for guests to print and bring in and 20% of your check will go to the Catanzaro family&#39\;s efforts in rebuilding their home.&nbsp\;</span><br />\n<br />\n<span style="background-color:rgb(255\, 255\, 255)\; color:rgb(75\, 79\, 86)\; font-family:system-ui\,-apple-system\,blinkmacsystemfont\,.sfnstext-regular\,sans-serif\; font-size:14px">A special thanks to the Montgomery Township fire department who kept the family safe and put out the fire. To honor them and all Fire Fighters we will be a holding a fire fighter appreciation day\, where the fire personnel and their families will receive 15% off of their bill on 2/5/18.</span>
LOCATION:The Greene Turtle (North Wales) 1100 Bethlehem Pike\, North Wales
UID:e.2385.3037
SEQUENCE:3
DTSTAMP:20260421T162643Z
URL:https://business.chambergmc.org/events/details/community-rebuild-for-the-catanzaro-family-02-05-2018-3037
END:VEVENT

END:VCALENDAR
