BEGIN:VCALENDAR
VERSION:2.0
PRODID:-//ChamberMaster//Event Calendar 2.0//EN
METHOD:PUBLISH
X-PUBLISHED-TTL:P3D
REFRESH-INTERVAL:P3D
CALSCALE:GREGORIAN
BEGIN:VEVENT
DTSTART:20181001T150000Z
DTEND:20181001T190000Z
X-MICROSOFT-CDO-ALLDAYEVENT:FALSE
SUMMARY:Complimentary Cataract & Glaucoma Screening
DESCRIPTION:Upon our recent opening of Blue Bell Eye Care & Surgery\, we are hosting several complimentary Cataract and Glaucoma screenings. Our first will be on Monday\, October 1st\, from 11am - 3pm. No insurance is necessary for this visit. We are here to help in any way possible\, and excited to meet our neighbors. Please call the office\, at 610-492-2020 to schedule your time with Stephanie here at Blue Bell Eye.
X-ALT-DESC;FMTTYPE=text/html:Upon our recent opening of Blue Bell Eye Care &amp\; Surgery\, we are hosting several complimentary Cataract and Glaucoma screenings. Our first will be on Monday\, October 1st\, from 11am - 3pm. No insurance is necessary for this visit. We are here to help in any way possible\, and excited to meet our neighbors. Please call the office\, at 610-492-2020 to schedule your time with Stephanie here at Blue Bell Eye.&nbsp\;
LOCATION:686 Dekalb Pike Suite 202 Blue Bell\, PA 19422
UID:e.2385.8054
SEQUENCE:3
DTSTAMP:20260422T013048Z
URL:https://business.chambergmc.org/events/details/complimentary-cataract-glaucoma-screening-8054
END:VEVENT

END:VCALENDAR
