BEGIN:VCALENDAR
VERSION:2.0
PRODID:-//ChamberMaster//Event Calendar 2.0//EN
METHOD:PUBLISH
X-PUBLISHED-TTL:P3D
REFRESH-INTERVAL:P3D
CALSCALE:GREGORIAN
BEGIN:VEVENT
DTSTART:20190410T223000Z
DTEND:20190410T233000Z
X-MICROSOFT-CDO-ALLDAYEVENT:FALSE
SUMMARY:Floral & Hardy - Composting Basics
DESCRIPTION:Jump on the backyard composting bandwagon at this FREE wine & cheese event!  Come learn how to take your yard waste and leaves\, combine them with grass clippings and kitchen waste\, and turn it into 'black gold' for your gardens. It's easy and fun!  Presentation will be given by Penn State Master Gardener\, Karrie Hontz.  \n\n\nPlease RSVP: \n\nhttp://floralandhardyofskippack.com/events/composting-basics/
X-ALT-DESC;FMTTYPE=text/html:<div style="text-align:justify"><span style="background-color:transparent\; color:rgb(0\, 0\, 0)\; font-family:arial\,helvetica\,sans-serif\; font-size:13px">Jump on the backyard composting bandwagon at this FREE wine &amp\; cheese event! &nbsp\;Come learn how to take your yard waste and leaves\, combine them with grass clippings and kitchen waste\, and turn it into &lsquo\;black gold&rsquo\; for your gardens. It&rsquo\;s easy and fun!&nbsp\; Presentation will be given by Penn State Master Gardener\, Karrie Hontz.&nbsp\; </span></div>\n<br />\n<span style="background-color:transparent\; color:rgb(0\, 0\, 0)\; font-family:arial\,helvetica\,sans-serif\; font-size:13px">Please RSVP:&nbsp\;<br />\n<a href="http://floralandhardyofskippack.com/events/composting-basics/">http://floralandhardyofskippack.com/events/composting-basics/</a></span>
LOCATION:Floral & Hardy 4007 Skippack Pike Skippack\, PA 19474
UID:e.2385.8201
SEQUENCE:3
DTSTAMP:20260422T094202Z
URL:https://business.chambergmc.org/events/details/composting-basics-8201
END:VEVENT

END:VCALENDAR
