BEGIN:VCALENDAR
VERSION:2.0
PRODID:-//ChamberMaster//Event Calendar 2.0//EN
METHOD:PUBLISH
X-PUBLISHED-TTL:P3D
REFRESH-INTERVAL:P3D
CALSCALE:GREGORIAN
BEGIN:VEVENT
DTSTART:20180329T220000Z
DTEND:20180330T000000Z
X-MICROSOFT-CDO-ALLDAYEVENT:FALSE
SUMMARY:Continuing Care Presentation
DESCRIPTION:Have concerns about Continuing Care services? Come join St. Mary Villa's Community as Michele Slater\, from A Place For Mom\, introduce families to the different levels of care offered for themselves or their loved ones. Food and refreshments will be provided! Please register for this event by March 26th.
X-ALT-DESC;FMTTYPE=text/html:Have concerns about Continuing Care services? Come join St. Mary Villa&#39\;s Community as Michele Slater\, from A Place For Mom\, introduce families to the different levels of care offered for themselves or their loved ones. Food and refreshments will be provided! Please register for this event by March 26th.
LOCATION:St. Mary Villa\, PCU Community Room\, 701 Lansdale Ave\, Lansdale PA 19446
UID:e.2385.3270
SEQUENCE:3
DTSTAMP:20260421T162013Z
URL:https://business.chambergmc.org/events/details/continuing-care-presentation-03-29-2018-3270
END:VEVENT

END:VCALENDAR
