BEGIN:VCALENDAR
VERSION:2.0
PRODID:-//ChamberMaster//Event Calendar 2.0//EN
METHOD:PUBLISH
X-PUBLISHED-TTL:P3D
REFRESH-INTERVAL:P3D
CALSCALE:GREGORIAN
BEGIN:VEVENT
DTSTART:20171222T220000Z
DTEND:20171223T000000Z
X-MICROSOFT-CDO-ALLDAYEVENT:FALSE
SUMMARY:Cookies with Santa\, St. Mary Villa Open House
DESCRIPTION:Come join St. Mary's Villa staff and families for "Cookies with Santa". All are welcome to come take their picture with Santa and enjoy refreshments.
X-ALT-DESC;FMTTYPE=text/html:Come join St. Mary&#39\;s Villa staff and families for &quot\;Cookies with Santa&quot\;. All are welcome to come take their picture with Santa and enjoy refreshments.
LOCATION:St. Mary Villa PCU 701 Lansdale Ave Lansdale\, PA 19446
UID:e.2385.2972
SEQUENCE:3
DTSTAMP:20260421T123308Z
URL:https://business.chambergmc.org/events/details/cookies-with-santa-st-mary-villa-open-house-12-22-2017-2972
END:VEVENT

END:VCALENDAR
