BEGIN:VCALENDAR
VERSION:2.0
PRODID:-//ChamberMaster//Event Calendar 2.0//EN
METHOD:PUBLISH
X-PUBLISHED-TTL:P3D
REFRESH-INTERVAL:P3D
CALSCALE:GREGORIAN
BEGIN:VEVENT
DTSTART:20180822T223000Z
DTEND:20180822T233000Z
X-MICROSOFT-CDO-ALLDAYEVENT:FALSE
SUMMARY:Floral & Hardy Cooking with Summer Herbs & Veggies
DESCRIPTION:Bring your friends and join us for this fun new cooking class at F&H!  Learn about preparing creative tasty dishes with your end of summer garden bounty.  The Spiced Peach Chef\, Peggy Gilbey\, will be giving a cooking demo in our yard\, using fresh seasonal herbs and vegetables.  We'll hand out samples and recipes for delicious dishes such as:\n\n\n	Zucchini cheese bites\n	Garden tomato tart with fresh herbs & mixed cheeses\n	Kale & mushroom bread pudding\n	Zucchini brownies\n\n\nPlease RSVP:\n\nhttp://floralandhardyofskippack.com/events/288/cooking-with-summer-herbs-veggies/
X-ALT-DESC;FMTTYPE=text/html:<p style="margin-left:0px\; margin-right:0px\; text-align:justify"><span style="font-family:arial\,helvetica\,sans-serif">Bring your friends and join us for this fun new cooking class at F&amp\;H!&nbsp\; Learn about preparing creative tasty dishes with your end of summer garden bounty.&nbsp\; The Spiced Peach Chef\, Peggy Gilbey\, will be giving a cooking demo in our yard\, using fresh seasonal herbs and vegetables.&nbsp\; We&rsquo\;ll hand out samples and recipes for delicious dishes such as:</span></p>\n\n<ul>\n	<li style="text-align:justify"><span style="font-family:arial\,helvetica\,sans-serif">Zucchini cheese bites</span></li>\n	<li style="text-align:justify"><span style="font-family:arial\,helvetica\,sans-serif">Garden tomato tart with fresh herbs &amp\; mixed cheeses</span></li>\n	<li style="text-align:justify"><span style="font-family:arial\,helvetica\,sans-serif">Kale &amp\; mushroom bread pudding</span></li>\n	<li style="text-align:justify"><span style="font-family:arial\,helvetica\,sans-serif">Zucchini brownies</span></li>\n</ul>\n\n<p style="margin-left:0px\; margin-right:0px">Please RSVP:<br />\n<a href="http://floralandhardyofskippack.com/events/288/cooking-with-summer-herbs-veggies/">http://floralandhardyofskippack.com/events/288/cooking-with-summer-herbs-veggies/</a></p>\n
LOCATION:Floral & Hardy 4007 Skippack Pike Skippack\, PA 19474
UID:e.2385.7868
SEQUENCE:3
DTSTAMP:20260421T230423Z
URL:https://business.chambergmc.org/events/details/cooking-with-summer-herbs-veggies-7868
END:VEVENT

END:VCALENDAR
