BEGIN:VCALENDAR
VERSION:2.0
PRODID:-//ChamberMaster//Event Calendar 2.0//EN
METHOD:PUBLISH
X-PUBLISHED-TTL:P3D
REFRESH-INTERVAL:P3D
CALSCALE:GREGORIAN
BEGIN:VEVENT
DTSTART:20190630T160000Z
DTEND:20190630T210000Z
X-MICROSOFT-CDO-ALLDAYEVENT:FALSE
SUMMARY:Cornhole Tournament / Dog Rescue Fundraiser
DESCRIPTION:Join us for a Cornhole Tournament/Dob Rescue Fundraiser.   Participating food trucks include Dog Bites hot dogs and Maggie Moo's ice cream.\n\n \n\nDog Rescue Organizations   100% of ticket sales will go to Home @ Last\, Tri-State Basset Hound Rescue\, City of Elderly Love. Each organization will be on site with dogs\, raffles\, items for purchase\, donations\, etc.\n\n \n\nTournament   Max of 32 teams. Double elimination if the weather permits. If we move indoors\, we will do single elimination. Each match is best of 3 games\, each game is to 11.\n\n  \n\nPrizes   Each of the top 3 teams receives 2 Imprint t-shirts and 2 gift cards\, each valued at: 1st place - $200\, 2nd place - $100\, 3rd place $50. Also\, the winning team will receive one 32 oz crowler of every beer on tap that weekend.
X-ALT-DESC;FMTTYPE=text/html:Join us for a Cornhole Tournament/Dob Rescue Fundraiser.&nbsp\; &nbsp\;Participating food trucks include Dog Bites hot dogs and Maggie Moo&rsquo\;s ice cream.<br />\n&nbsp\;<br />\nDog Rescue Organizations &ndash\; 100% of ticket sales will go to Home @ Last\, Tri-State Basset Hound Rescue\, City of Elderly Love. Each organization will be on site with dogs\, raffles\, items for purchase\, donations\, etc.<br />\n&nbsp\;<br />\nTournament &ndash\; Max of 32 teams. Double elimination if the weather permits. If we move indoors\, we will do single elimination. Each match is best of 3 games\, each game is to 11.<br />\n&nbsp\;&nbsp\;<br />\nPrizes &ndash\; Each of the top 3 teams receives 2 Imprint t-shirts and 2 gift cards\, each valued at: 1<sup>st</sup> place - $200\, 2<sup>nd</sup> place - $100\, 3<sup>rd</sup> place $50. Also\, the winning team will receive one 32 oz crowler of every beer on tap that weekend.<br />\n&nbsp\;
LOCATION:Imprint Beer Co. 1500 Industry Road\, Ste O Hatfield\, PA
UID:e.2385.8803
SEQUENCE:3
DTSTAMP:20260422T123628Z
URL:https://business.chambergmc.org/events/details/cornhole-tournament-dog-rescue-fundraiser-8803
END:VEVENT

END:VCALENDAR
