BEGIN:VCALENDAR
VERSION:2.0
PRODID:-//ChamberMaster//Event Calendar 2.0//EN
METHOD:PUBLISH
X-PUBLISHED-TTL:P3D
REFRESH-INTERVAL:P3D
CALSCALE:GREGORIAN
BEGIN:VEVENT
DTSTART:20190423T210000Z
DTEND:20190423T230000Z
X-MICROSOFT-CDO-ALLDAYEVENT:FALSE
SUMMARY:Costco Warehouse Business Card Exchange
DESCRIPTION:Costco Warehouse is hosting a business card exchange for local companies.  Hot & cold hors d'oeuvres and beverages will be served.  There is no cost to attend.  Please confirm your attendance by contacting Lisa Martin by phone 215-353-4153 or email w248mkt03@costco.com
X-ALT-DESC;FMTTYPE=text/html:Costco Warehouse is hosting a business card exchange for local companies.&nbsp\; Hot &amp\; cold hors d&#39\;oeuvres and beverages will be served.&nbsp\; There is no cost to attend.&nbsp\; Please confirm your attendance by contacting Lisa Martin by phone<span style="font-family:comic sans ms\;">&nbsp\;215-353-4153 or email&nbsp\;<a href="mailto:w248mkt03@costco.com" target="_blank">w248mkt03@costco.com</a></span><br />\n&nbsp\;
LOCATION:740 Upper State Road North Wales\, PA 19454
UID:e.2385.8190
SEQUENCE:3
DTSTAMP:20260422T094656Z
URL:https://business.chambergmc.org/events/details/costco-warehouse-business-card-exchange-8190
END:VEVENT

END:VCALENDAR
