BEGIN:VCALENDAR
VERSION:2.0
PRODID:-//ChamberMaster//Event Calendar 2.0//EN
METHOD:PUBLISH
X-PUBLISHED-TTL:P3D
REFRESH-INTERVAL:P3D
CALSCALE:GREGORIAN
BEGIN:VEVENT
DTSTART:20191019T233000Z
DTEND:20191020T023000Z
X-MICROSOFT-CDO-ALLDAYEVENT:FALSE
SUMMARY:Country Line Dancing Fundraiser
DESCRIPTION:Come out and support Sebastian Riding Associates. Come out and country line dance.  There will be songs for all levels.   Raffle baskets\, 50/50 and more.  Come out and support a great cause.  \n\n\n\nSign up at:\n\nhttps://www.eventbrite.com/d/pa--collegeville/line-dancing/?q=line%20dancing&lc=1
X-ALT-DESC;FMTTYPE=text/html:Come out and support Sebastian Riding Associates. Come out and country line dance.&nbsp\; There will be songs for all levels.&nbsp\; &nbsp\;Raffle baskets\, 50/50 and more.&nbsp\; Come out and support a great cause.&nbsp\;&nbsp\;<br />\n<br />\nSign up at:<br />\n<a href="https://www.eventbrite.com/d/pa--collegeville/line-dancing/?q=line%20dancing&amp\;lc=1">https://www.eventbrite.com/d/pa--collegeville/line-dancing/?q=line%20dancing&amp\;lc=1</a><br />\n<br />\n&nbsp\;
LOCATION:North Penn Elks Lodge 2737 Trewigtown Road Colmar\, PA 18915
UID:e.2385.10134
SEQUENCE:3
DTSTAMP:20260423T165637Z
URL:https://business.chambergmc.org/events/details/country-line-dancing-fundraiser-10134
END:VEVENT

END:VCALENDAR
