BEGIN:VCALENDAR
VERSION:2.0
PRODID:-//ChamberMaster//Event Calendar 2.0//EN
METHOD:PUBLISH
X-PUBLISHED-TTL:P3D
REFRESH-INTERVAL:P3D
CALSCALE:GREGORIAN
BEGIN:VEVENT
DTSTART:20180216T233000Z
DTEND:20180217T003000Z
X-MICROSOFT-CDO-ALLDAYEVENT:FALSE
SUMMARY:Couples Meditation for Valentine's Day
DESCRIPTION:Our connections with other humans are so important to our well-being! In our busy life\, it is often difficult to create space for quality time with our loved ones.  Nurture your connection with that special someone during a meditation experience designed especially for couples!  You will be led on a meditative journey with your partner that will enhance feelings of warmth and closeness.\n\n\n\n  Our space is small and intimate\; we have room for 5 couples in each offering.\n\n  Two opportunities on Friday\, February 16 to enjoy this experience: 6:30-7:30 pm & 8:00-9:00 pm\n\n  Cost: $32.00 per couple\n\n\n\nSign up TODAY to reserve your space! (note: one pass purchased covers 2 people)\n\n\n\nThis is your life   BE PRESENT FOR IT!\n\n\n\nNote:  If you would prefer to pay cash instead of a credit card online\, please CALL LINDA 610.222.0700.  Thank you!
X-ALT-DESC;FMTTYPE=text/html:<span style="font-size:14px"><span style="color:#008000"><span style="font-family:comic sans ms">Our connections with other humans are so important to our well-being! In our busy life\, it is often difficult to create space for quality time with our loved ones.&nbsp\;&nbsp\;Nurture your connection with that special someone during a meditation experience designed especially for couples!&nbsp\;&nbsp\;You will be led on a meditative journey with your partner that will enhance feelings of warmth and closeness.</span></span></span><br />\n<br />\n<span style="font-family:verdana\,sans-serif"><span style="font-size:10.5pt">&bull\; <span style="font-family:comic sans ms">Our space is small and intimate\; we have room for 5 couples in each offering.<br />\n&bull\; Two opportunities on Friday\, February 16 to enjoy this experience:&nbsp\;6:30-7:30 pm &amp\; 8:00-9:00 pm</span></span></span><br />\n<span style="font-family:verdana\,sans-serif"><span style="font-size:10.5pt">&bull\;<span style="font-family:comic sans ms"><strong>&nbsp\;Cost: $32.00 per couple</strong></span></span></span><br />\n<br />\n<span style="font-family:comic sans ms"><span style="font-size:10.5pt"><a href="https://clients.mindbodyonline.com/classic/ws?studioid=832966&amp\;stype=-7&amp\;sTG=33&amp\;sVT=26&amp\;sView=day&amp\;sLoc=1&amp\;sTrn=100000001"><span style="color:#FF8C00">Sign up TODAY to reserve your space!</span></a><span style="color:#FF8C00"> (note: one pass purchased covers 2 people)</span></span><br />\n<br />\n<span style="font-size:10.5pt"><span style="color:#FF8C00">This is your life &ndash\; BE PRESENT FOR IT!</span></span><br />\n<br />\n<span style="font-size:10.5pt">Note:&nbsp\; If you would prefer to pay cash instead of a credit card online\, please CALL LINDA 610.222.0700.&nbsp\; Thank you!</span></span>
LOCATION:Why Not Sprout?! 4039 Skippack Pike Skippack\, PA 19474 610.222.0700
UID:e.2385.3032
SEQUENCE:3
DTSTAMP:20260421T161144Z
URL:https://business.chambergmc.org/events/details/couples-meditation-for-valentine-s-day-02-16-2018-3032
END:VEVENT

END:VCALENDAR
