BEGIN:VCALENDAR
VERSION:2.0
PRODID:-//ChamberMaster//Event Calendar 2.0//EN
METHOD:PUBLISH
X-PUBLISHED-TTL:P3D
REFRESH-INTERVAL:P3D
CALSCALE:GREGORIAN
BEGIN:VEVENT
DTSTART:20181118T183000Z
DTEND:20181118T200000Z
X-MICROSOFT-CDO-ALLDAYEVENT:FALSE
SUMMARY:Create a Floral Turkey!
DESCRIPTION:Register now for Whitemarsh Township Parks and Recreation's Create a Floral Turkey! Learn floral techniques as you create a 'no-calorie' floral turkey that will surely be a conversation piece for your thanksgiving tables. Please bring your own floral shears and a shallow box to take your creation home in. Fee is $37.00 for WM Res\, and $44.00 for non residents. Register online at www.whitemarshparks.org or call 610-828-7276. Sunday\, November 18th 1:30-3:00PM Cedar Grove Barn 100 Cedar Grove Road\, Conshohocken\, PA
X-ALT-DESC;FMTTYPE=text/html:Register now for Whitemarsh Township Parks and Recreation&#39\;s Create a Floral Turkey! Learn floral techniques as you create a &#39\;no-calorie&#39\; floral turkey that will surely be a conversation piece for your thanksgiving tables. Please bring your own floral shears and a shallow box to take your creation home in. Fee is $37.00 for WM Res\, and $44.00 for non residents. Register online at www.whitemarshparks.org or call 610-828-7276. Sunday\, November 18th 1:30-3:00PM Cedar Grove Barn 100 Cedar Grove Road\, Conshohocken\, PA
LOCATION:Cedar Grove Barn 100 Cedar Grove Road
UID:e.2385.8079
SEQUENCE:3
DTSTAMP:20260422T025131Z
URL:https://business.chambergmc.org/events/details/create-a-floral-turkey-8079
END:VEVENT

END:VCALENDAR
