BEGIN:VCALENDAR
VERSION:2.0
PRODID:-//ChamberMaster//Event Calendar 2.0//EN
METHOD:PUBLISH
X-PUBLISHED-TTL:P3D
REFRESH-INTERVAL:P3D
CALSCALE:GREGORIAN
BEGIN:VEVENT
DTSTART:20180504T130000Z
DTEND:20180504T190000Z
X-MICROSOFT-CDO-ALLDAYEVENT:FALSE
SUMMARY:Culture & Leadership Conference
DESCRIPTION:Today\, more than ever\, the culture of your organization matters. Hear from talent and leadership experts and learn what it takes to develop a high performance workplace culture.
X-ALT-DESC;FMTTYPE=text/html:Today\, more than ever\, the culture of your organization matters. Hear from talent and leadership experts and learn what it takes to develop a high performance workplace culture.
LOCATION:Sheraton Valley Forge Hotel
UID:e.2385.6642
SEQUENCE:3
DTSTAMP:20260421T190525Z
URL:https://business.chambergmc.org/events/details/culture-leadership-conference-05-04-2018-6642
END:VEVENT

END:VCALENDAR
