BEGIN:VCALENDAR
VERSION:2.0
PRODID:-//ChamberMaster//Event Calendar 2.0//EN
METHOD:PUBLISH
X-PUBLISHED-TTL:P3D
REFRESH-INTERVAL:P3D
CALSCALE:GREGORIAN
BEGIN:VEVENT
DTSTART:20190612T223000Z
DTEND:20190612T233000Z
X-MICROSOFT-CDO-ALLDAYEVENT:FALSE
SUMMARY:Floral & Hardy Deadheading Perennials
DESCRIPTION:You spend a lot of time planning and planting your flower gardens.  Join us at this free wine & cheese event to learn about new techniques for pruning and deadheading plants.  We'll share with you how to maintain good plant health and ways to extend bloom time as long as possible.  Presentation will be given by Master Gardener\, Karrie Hontz. \n\n \nPlease RSVP: https://floralandhardyofskippack.com/events/deadheading-perennials/
X-ALT-DESC;FMTTYPE=text/html:<div style="text-align:justify"><span style="background-color:transparent\; color:rgb(0\, 0\, 0)\; font-family:arial\,helvetica\,sans-serif\; font-size:13.33px">You spend a lot of time planning and planting your flower gardens.&nbsp\; Join us at this free wine &amp\; cheese event to learn about&nbsp\;new techniques for pruning and deadheading plants.&nbsp\; We&rsquo\;ll share with you how to maintain good plant health and ways to extend bloom time as long as possible.&nbsp\; Presentation will be given by Master Gardener\, Karrie Hontz. </span><br />\n&nbsp\;</div>\nPlease RSVP:&nbsp\;<a href="https://floralandhardyofskippack.com/events/deadheading-perennials/">https://floralandhardyofskippack.com/events/deadheading-perennials/</a>
LOCATION:Floral & Hardy 4007 Skippack Pike Skippack\, PA 19474
UID:e.2385.8713
SEQUENCE:3
DTSTAMP:20260422T123240Z
URL:https://business.chambergmc.org/events/details/deadheading-perennials-8713
END:VEVENT

END:VCALENDAR
