BEGIN:VCALENDAR
VERSION:2.0
PRODID:-//ChamberMaster//Event Calendar 2.0//EN
METHOD:PUBLISH
X-PUBLISHED-TTL:P3D
REFRESH-INTERVAL:P3D
CALSCALE:GREGORIAN
BEGIN:VEVENT
DTSTART:20250424T150000Z
DTEND:20250424T190000Z
X-MICROSOFT-CDO-ALLDAYEVENT:FALSE
SUMMARY:DeadTalk
DESCRIPTION:Let's Talk about Death.\n\nIn the spirit of a popular movement to bring people together to discuss ideas that might change everything\, we invite you to join us live in Ambler\, Pennsylvania on Thursday\, April 24\, 2025 to share a unique space with conversations focused on death\, legacy and the human experience. This maiden DeadTalk will offer ten incredible speaker sessions with diverse thought leaders on topics curated to help us embrace endings. We seek to change the narrative on death as a scary\, taboo subject and create a community that openly welcomes the topic of death as inevitable\, unifying\, necessary\, and human.\n\nWe are offering this event at no cost. Space is limited to the first 100 attendees who sign up. Please make sure that you will be able to attend. Once the program is full\, we will manage a waiting list on a first-come\, first-served basis after cancellations.\n\nThere will be no virtual attendance option.\n\nLight lunch and drinks will be available. We also invite you to stay after the program for networking and personal conversations with some of the speakers.
X-ALT-DESC;FMTTYPE=text/html:<p style="margin-left:calc(var(--oJepFA)*1em)\; margin-right:0px\; text-align:center"><span style="font-size:1em">Let&rsquo\;s Talk about Death.</span></p>\n\n<p style="margin-left:calc(var(--oJepFA)*1em)\; margin-right:0px"><span style="font-size:1em">In the spirit of a popular movement to bring people together to discuss ideas that&nbsp\;might change everything\, we invite you to join us live in Ambler\, Pennsylvania on&nbsp\;Thursday\, April 24\, 2025 to share a unique space with conversations focused on&nbsp\;death\, legacy and the human experience. This maiden DeadTalk will offer ten&nbsp\;incredible speaker sessions with diverse thought leaders on topics curated to help us&nbsp\;embrace endings. We seek to change the narrative on death as a scary\, taboo&nbsp\;subject and create a community that openly welcomes the topic of death as&nbsp\;inevitable\, unifying\, necessary\, and human.</span></p>\n\n<p style="margin-left:calc(var(--oJepFA)*1em)\; margin-right:0px"><span style="font-size:1em">We are offering this event at no cost. Space is limited to the first 100 attendees who&nbsp\;sign up. Please make sure that you will be able to attend. Once the program is full\, we&nbsp\;will manage a waiting list on a first-come\, first-served basis after cancellations.<br />\nThere will be no virtual attendance option.</span></p>\n\n<p style="margin-left:calc(var(--oJepFA)*1em)\; margin-right:0px"><span style="font-size:1em">Light lunch and drinks will be available. We also invite you to stay after the program&nbsp\;for networking and personal conversations with some of the speakers.</span><span style="font-size:1em"> </span></p>\n\n<p style="margin-left:calc(var(--oJepFA)*1em)\; margin-right:0px">&nbsp\;</p>\n
LOCATION:Joseph Ambler Inn 1005 Horsham Road\, Lower Gwynedd\, PA 19454 Ballroom
UID:e.2385.12200
SEQUENCE:3
DTSTAMP:20260420T190513Z
URL:https://business.chambergmc.org/events/details/deadtalk-12200
END:VEVENT

END:VCALENDAR
