BEGIN:VCALENDAR
VERSION:2.0
PRODID:-//ChamberMaster//Event Calendar 2.0//EN
METHOD:PUBLISH
X-PUBLISHED-TTL:P3D
REFRESH-INTERVAL:P3D
CALSCALE:GREGORIAN
BEGIN:VEVENT
DTSTART:20171209T170000Z
DTEND:20171209T210000Z
X-MICROSOFT-CDO-ALLDAYEVENT:FALSE
SUMMARY:Deck the Halls Multi-Tap Beer Event
DESCRIPTION:It's time to Deck the Halls at Iron Hill\, North Wales! Our Brewers have taken four classic Iron Hill holiday beers and have added their North Wales twist to wish you a Very Merry Multi-Tap!\n\n\n\n8 Holiday themed beers on tap while supplies last!\n\n\n\nComplimentary Holiday Peanut Bark Exclusively for King of the Hill Members
X-ALT-DESC;FMTTYPE=text/html:It&#39\;s time to Deck the Halls at Iron Hill\, North Wales! Our Brewers have taken four classic Iron Hill holiday beers and have added their North Wales twist to wish you a Very Merry Multi-Tap!<br />\n<br />\n8 Holiday themed beers on tap while supplies last!<br />\n<br />\nComplimentary Holiday Peanut Bark Exclusively for King of the Hill Members&nbsp\;
LOCATION:Iron Hill Brewery & Restaurant 1460 Bethlehem Pike\, Suite 100 North Wales\, PA 19454 phone: 267.708.2000 Make reservation at IronHillBrewery.com or OpenTable.com
UID:e.2385.2919
SEQUENCE:3
DTSTAMP:20260421T122720Z
URL:https://business.chambergmc.org/events/details/deck-the-halls-multi-tap-beer-event-12-09-2017-2919
END:VEVENT

END:VCALENDAR
