BEGIN:VCALENDAR
VERSION:2.0
PRODID:-//ChamberMaster//Event Calendar 2.0//EN
METHOD:PUBLISH
X-PUBLISHED-TTL:P3D
REFRESH-INTERVAL:P3D
CALSCALE:GREGORIAN
BEGIN:VEVENT
DTSTART:20171101T210000Z
DTEND:20171102T020000Z
X-MICROSOFT-CDO-ALLDAYEVENT:FALSE
SUMMARY:Dia de los Muertos Day of the Dead
DESCRIPTION:Tequila\, vodka and gin samplings. Live Mariachi music Come enjoy the fun MAKE YOUR RESERVATIONS!!!!! 610-239-8667 elsarapebluebell.com
X-ALT-DESC;FMTTYPE=text/html:Tequila\, vodka and gin samplings. Live Mariachi music Come enjoy the fun MAKE YOUR RESERVATIONS!!!!! 610-239-8667 elsarapebluebell.com
LOCATION:EL SARAPE MEXICAN CUISINE & TEQUILA BAR 970 DeKalb Pike Blue Bell\, PA 19422
UID:e.2385.2650
SEQUENCE:3
DTSTAMP:20260421T112221Z
URL:https://business.chambergmc.org/events/details/dia-de-los-muertos-day-of-the-dead-11-01-2017-2650
END:VEVENT

END:VCALENDAR
