BEGIN:VCALENDAR
VERSION:2.0
PRODID:-//ChamberMaster//Event Calendar 2.0//EN
METHOD:PUBLISH
X-PUBLISHED-TTL:P3D
REFRESH-INTERVAL:P3D
CALSCALE:GREGORIAN
BEGIN:VEVENT
DTSTART:20180116T230000Z
DTEND:20180117T013000Z
X-MICROSOFT-CDO-ALLDAYEVENT:FALSE
SUMMARY:Dinner & CPE - North Penn IMA
DESCRIPTION:Time  to Get Cautious?\n\n1 Hr CPE - Other\n\n\n\nKip Schaefer\, CFP\, Vice President\n\nMatthew Pritzkur\, Senior Analyst\n\nBernstein Private Wealth Management\n\n \nWith the US stock market recovery now one of the longest on record\, some wonder whether conditions are overextended.  Others focus on the array of geopolitical risks around the world.  We see economic expansion and earnings growth continuing to support markets as well as resilience in the face of geopolitical events.  While corrections can happen at any time\, they are impossible and costly to time.  Diversification\, in our view\, is the best form of downside protection.\n\n \n\nKip Schaefer\, CFP  with AB Bernstein\, a global investment management firm.  He'll be joined by his colleague Matt Pritzkur a member of Bernstein's Wealth Planning and Analysis team.  Together they'll share capital market insights\, as investors question: is it Time to Get Cautious?
X-ALT-DESC;FMTTYPE=text/html:<div><strong><span style="font-family:arial\,sans-serif"><span style="font-size:14pt">Time&nbsp\; to Get Cautious?</span></span></strong><br />\n<strong><span style="font-family:arial\,sans-serif"><span style="font-size:14pt">1 Hr CPE - Other</span></span></strong><br />\n<br />\n<strong><span style="font-family:arial\,sans-serif"><span style="font-size:14pt">Kip Schaefer\, CFP\, Vice President<br />\nMatthew Pritzkur\, Senior Analyst</span></span></strong><br />\n<span style="font-size:18.6667px"><strong>Bernstein Private Wealth Management</strong></span><br />\n&nbsp\;\n<div>With the US stock market recovery now one of the longest on record\, some wonder whether conditions are overextended.&nbsp\; Others focus on the array of geopolitical risks around the world.&nbsp\; We see economic expansion and earnings growth continuing to support markets as well as resilience in the face of geopolitical events.&nbsp\; While corrections can happen at any time\, they are impossible and costly to time.&nbsp\; Diversification\, in our view\, is the best form of downside protection.<br />\n&nbsp\;</div>\n\n<div>Kip&nbsp\;Schaefer\, CFP&reg\; with AB Bernstein\, a global investment management firm.&nbsp\; He&#39\;ll be joined by his colleague Matt Pritzkur a member of Bernstein&#39\;s Wealth Planning and Analysis team.&nbsp\; Together they&#39\;ll share capital market insights\, as investors question: is it Time to Get Cautious?</div>\n</div>\n
LOCATION:William Penn Inn The restaurant is on the corner of DeKalb Pike (Route 202) and Sumneytown Pike in Upper in Gwynedd (1017 DeKalb Pike\, Ambler\, PA 19002 for GPS users). The banquet entrance is in the rear of the building\, and there is ample complimentary parking.
UID:e.2385.2984
SEQUENCE:3
DTSTAMP:20260421T133654Z
URL:https://business.chambergmc.org/events/details/dinner-cpe-north-penn-ima-01-16-2018-2984
END:VEVENT

END:VCALENDAR
