BEGIN:VCALENDAR
VERSION:2.0
PRODID:-//ChamberMaster//Event Calendar 2.0//EN
METHOD:PUBLISH
X-PUBLISHED-TTL:P3D
REFRESH-INTERVAL:P3D
CALSCALE:GREGORIAN
BEGIN:VEVENT
DTSTART:20180320T220000Z
DTEND:20180321T003000Z
X-MICROSOFT-CDO-ALLDAYEVENT:FALSE
SUMMARY:Dinner & CPE - North Penn IMA
DESCRIPTION:Technology Disruptors - Blockchain\, Bitcoin\n\n1.0 Hr CPE - Other\n\n\n\nRichard Godwin\, J.D.\, Blockchain Program Lead\n\nSEI Investments\n\nRichard coordinates the blockchain program at SEI Investments. He supports various business units\, IT\, operations\, and executive management\, presenting actionable recommendations for blockchain implementation at the company. While maintaining a comprehensive inventory of blockchain projects and ideas within the company\, he reports to stakeholders on their progress and risks.\n\nHe began his career as an aspiring attorney. Richard discovered Bitcoin in 2013 while in law school at Rutgers University\, and spent most of his free time researching and studying Bitcoin\, blockchain\, and economics. When he graduated\, he made the difficult decision to transition from law to finance.\n\nWhile working various odd jobs\, Richard taught himself finance and economics through various online lectures and investment newsletters. He eventually landed a job in the call center at SEI\, where he began blogging about blockchain. After gaining the attention of some prominent employees in the company\, he was given the job of Blockchain Research Analyst and quickly rose to the Blockchain Program Lead.\n\nHe's currently in the final year of his Master's degree in Financial Services from Saint Joseph's University. He and his wife married in February 2017\, and they are expecting their first child in April.
X-ALT-DESC;FMTTYPE=text/html:<span style="font-size:18.6667px"><strong>Technology Disruptors - Blockchain\, Bitcoin</strong></span><br />\n<strong><span style="font-family:arial\,sans-serif"><span style="font-size:14pt">1.0 Hr CPE - Other</span></span></strong><br />\n<br />\n<strong><span style="font-family:arial\,sans-serif"><span style="font-size:14pt">Richard Godwin\, J.D.\, Blockchain Program Lead</span></span></strong><br />\n<span style="font-size:18.6667px"><strong>SEI Investments</strong></span>\n<div>\n<p>Richard coordinates the blockchain program at SEI Investments. He supports various business units\, IT\, operations\, and executive management\, presenting actionable recommendations for blockchain implementation at the company. While maintaining a comprehensive inventory of blockchain projects and ideas within the company\, he reports to stakeholders on their progress and risks.</p>\n\n<p>He began his career as an aspiring attorney. Richard discovered Bitcoin in 2013 while in law school at Rutgers University\, and spent most of his free time researching and studying Bitcoin\, blockchain\, and economics. When he graduated\, he made the difficult decision to transition from law to finance.</p>\n\n<p>While working various odd jobs\, Richard taught himself finance and economics through various online lectures and investment newsletters. He eventually landed a job in the call center at SEI\, where he began blogging about blockchain. After gaining the attention of some prominent employees in the company\, he was given the job of Blockchain Research Analyst and quickly rose to the Blockchain Program Lead.</p>\n\n<p>He&rsquo\;s currently in the final year of his Master&rsquo\;s degree in Financial Services from Saint Joseph&rsquo\;s University. He and his wife married in February 2017\, and they are expecting their first child in April.</p>\n</div>\n
LOCATION:William Penn Inn The restaurant is on the corner of DeKalb Pike (Route 202) and Sumneytown Pike in Upper in Gwynedd (1017 DeKalb Pike\, Ambler\, PA 19002 for GPS users). The banquet entrance is in the rear of the building\, and there is ample complimentary parking.
UID:e.2385.3267
SEQUENCE:3
DTSTAMP:20260421T162210Z
URL:https://business.chambergmc.org/events/details/dinner-cpe-north-penn-ima-03-20-2018-3267
END:VEVENT

END:VCALENDAR
