BEGIN:VCALENDAR
VERSION:2.0
PRODID:-//ChamberMaster//Event Calendar 2.0//EN
METHOD:PUBLISH
X-PUBLISHED-TTL:P3D
REFRESH-INTERVAL:P3D
CALSCALE:GREGORIAN
BEGIN:VEVENT
DTSTART:20180417T220000Z
DTEND:20180418T003000Z
X-MICROSOFT-CDO-ALLDAYEVENT:FALSE
SUMMARY:Dinner & CPE - North Penn IMA
DESCRIPTION:The Expectations of Both Mentor and Mentee\n\n1.0 Hr CPE - Other\n\n\n\nLisa Penn\, Director of Coaching\n\nSEI Wealth Platform and Operations
X-ALT-DESC;FMTTYPE=text/html:<span style="font-size:18.6667px"><strong>The Expectations of Both Mentor and Mentee</strong></span><br />\n<strong><span style="font-family:arial\,sans-serif"><span style="font-size:14pt">1.0 Hr CPE - Other</span></span></strong><br />\n<br />\n<strong><span style="font-family:arial\,sans-serif"><span style="font-size:14pt">Lisa Penn\, Director of Coaching</span></span></strong><br />\n<span style="font-size:18.6667px"><strong>SEI Wealth Platform and Operations</strong></span>
LOCATION:William Penn Inn The restaurant is on the corner of DeKalb Pike (Route 202) and Sumneytown Pike in Upper in Gwynedd (1017 DeKalb Pike\, Ambler\, PA 19002 for GPS users). The banquet entrance is in the rear of the building\, and there is ample complimentary parking.
UID:e.2385.6319
SEQUENCE:3
DTSTAMP:20260421T174548Z
URL:https://business.chambergmc.org/events/details/dinner-cpe-north-penn-ima-04-17-2018-6319
END:VEVENT

END:VCALENDAR
